BEGIN:VCALENDAR
PRODID:NingEventWidget-v1
VERSION:2.0
METHOD:PUBLISH
BEGIN:VTIMEZONE
TZID:Europe/Paris
X-LIC-LOCATION:Europe/Paris
BEGIN:DAYLIGHT
TZOFFSETFROM:+0100
TZOFFSETTO:+0200
TZNAME:CEST
DTSTART:19700329T020000
RRULE:FREQ=YEARLY;BYMONTH=3;BYDAY=-1SU
END:DAYLIGHT
BEGIN:STANDARD
TZOFFSETFROM:+0200
TZOFFSETTO:+0100
TZNAME:CET
DTSTART:19701025T030000
RRULE:FREQ=YEARLY;BYMONTH=10;BYDAY=-1SU
END:STANDARD
END:VTIMEZONE
BEGIN:VEVENT
UID:2485226:Event:34575
DTSTAMP:20260420T114435Z
SUMMARY:PARTAGE LOCAL CENTRE MONTPELLIER
DESCRIPTION:Local 90m2:\n70m2 grande salle - 12m2 petite salle - 8m2 v
 estiaire\nLe local se situe derrière la gare, très propre, lumineux,
  calme, desservi par les deux tramways.\nLocation: weekend, heure, dem
 i-journée, journée, le matin ou le soir pour toutes techniques éner
 gétiques corporelles et d'éveil.\nPlus de renseignements: 06 18 44 4
 5 03\n\nPour plus d'information, aller sur https://epanews.fr/events/p
 artage-local-centre
DTSTART;TZID=Europe/Paris:20100224T180000
DTEND;TZID=Europe/Paris:20100224T190000
CATEGORIES:34
LOCATION:ESPACE BHÃVANÃ
WEBSITE:http://www.somatotherapie.info
URL:http://www.somatotherapie.info
CONTACT:06 18 44 45 03
ORGANIZER;CN="Association ESPACE BHÃVANÃ":https://epanews.fr/profile
 /AssociationESPACEBHAVANA
ATTACH;FMTTYPE="image/jpeg":
ATTENDEE;ROLE=REQ-PARTICIPANT;PARTSTAT=ACCEPTED;RSVP=TRUE;CN="Associat
 ion ESPACE BHÃVANÃ":https://epanews.fr/profile/AssociationESPACEBHAV
 ANA
END:VEVENT
END:VCALENDAR
