BEGIN:VCALENDAR
PRODID:NingEventWidget-v1
VERSION:2.0
METHOD:PUBLISH
BEGIN:VTIMEZONE
TZID:Europe/Paris
X-LIC-LOCATION:Europe/Paris
BEGIN:DAYLIGHT
TZOFFSETFROM:+0100
TZOFFSETTO:+0200
TZNAME:CEST
DTSTART:19700329T020000
RRULE:FREQ=YEARLY;BYMONTH=3;BYDAY=-1SU
END:DAYLIGHT
BEGIN:STANDARD
TZOFFSETFROM:+0200
TZOFFSETTO:+0100
TZNAME:CET
DTSTART:19701025T030000
RRULE:FREQ=YEARLY;BYMONTH=10;BYDAY=-1SU
END:STANDARD
END:VTIMEZONE
BEGIN:VEVENT
UID:2485226:Event:271150
DTSTAMP:20260420T130331Z
SUMMARY:parler pour que les enfants Ã©coutent, Ã©couter pour que les e
 nfants parlent
DESCRIPTION:Stage de Communication\nParents/Enfants et Adultes/Enfants
 \net formation dâ€™animateurs dâ€™atelier\nÂ \nUne approche lucide, se
 nsible et respectueuseÂ Â \nqui entraÃ®ne moins de stress et plus de g
 ratification\npour les adultes comme pour les enfants.\nÂ \n-GÃ©rer le
 s sentiments nÃ©gatifs de lâ€™enfant (frustration, dÃ©ception, colÃ¨re
  etc.)\n-Susciter le dÃ©sir de coopÃ©rer\n-Mettre des limites fermes d
 ans un climat dâ€™ouverture\n-Eviter le recours Ã  la punition\n-Favor
 iser lâ€™image positive de lâ€™enfant\n-RÃ©soudreÂ  les conflits avec 
 calme\nCes thÃ¨mes seront abordÃ©s Ã  travers lâ€™apprentissage dâ€™ou
 tils de communication concrets, simples et efficaces, dâ€™exercices de
 Â  mise en situation et de techniques dâ€™animation.\nÂ \nCette format
 ion s'adresse aussi bien aux parents et professionnels dÃ©sirant acquÃ
 ©rir des outils permettant d'aider Ã  rÃ©soudre les difficultÃ©s dans 
 toute relationÂ qu'aux personnes souhaitant se former Ã  l'animation d
 es ateliers (des temps spÃ©cifiques Ã  seront consacrÃ©s Ã  l'animatio
 n durant ces 3 journÃ©es).\nÂ \nAnimÃ© par Pascale VERISSEL, formatric
 e d'ateliers \"Faber et Mazlish\" depuis 2002.\nparlervrai@ymail.com â
 —¦ www.parlervrai.org\n Inscriptions et info. : Brigitte ARESTAN\n06 1
 3 29 07 17 â—¦ 04 94 21 86 72 â—¦ brigittearestan@yahoo.frÂ Â Â Â Â Â 
 Â Â Â  et Â Â Â Â Â Â \nIsabelle RIGAULT â—¦ 06 28 25 56 88 â—¦ tant_e
 t_plus@sfr.fr\nÂ \nTarif : 200 euro parents et professionnels de l'enf
 ance\nÂ 350 euro animateurs (trousse d'animation comprise)\nLe prix ne
  doit pas Ãªtre un obstacle. N'hÃ©sitez pas Ã  nous contacter afin que
  nous trouvions un arrangement.\nEntre 10 et 16 participants, repas pa
 rtagÃ©s (tirÃ©s du sac).\n* Ouvrages conseillÃ©sÂ des auteurs AdÃ¨le F
 ABER et Elaine MAZLISH :\n\nParler pour que les enfants Ã©coutent, Ã©c
 outer pour que les enfants parlent (Ã©d. Relations plus inc.)\nJalousi
 es et rivalitÃ©s entre frÃ¨res et sÅ“urs (Comment venir Ã  bout des co
 nflits entre vos enfants) (Ã©d. Stock)\nParler pour que les enfants ap
 prennent Ã  la maison et Ã  lâ€™Ã©cole (Ã©d. Relations plus inc.)\nPar
 ents Ã©panouis, enfants Ã©panouis (Ã©d. Relations plus inc.)\n\nÂ \nÂ 
 \nÂ \nÂ \n\nPour plus d'information, aller sur https://epanews.fr/even
 ts/parler-pour-que-les-enfants-2
DTSTART;TZID=Europe/Paris:20110502T000000
DTEND;TZID=Europe/Paris:20110504T235900
CATEGORIES:83
LOCATION:Toulon
WEBSITE:
URL:
CONTACT:06 28 25 56 88 ou 06 13 29 07 17
ORGANIZER;CN=Indumati:https://epanews.fr/profile/Indumati
ATTACH;FMTTYPE="image/jpeg":http://storage.ning.com/topology/rest/1.0/
 file/get/1662411285?profile=original
ATTENDEE;ROLE=REQ-PARTICIPANT;PARTSTAT=ACCEPTED;RSVP=TRUE;CN=Indumati:
 https://epanews.fr/profile/Indumati
END:VEVENT
END:VCALENDAR
