BEGIN:VCALENDAR
PRODID:NingEventWidget-v1
VERSION:2.0
METHOD:PUBLISH
BEGIN:VTIMEZONE
TZID:Europe/Paris
X-LIC-LOCATION:Europe/Paris
BEGIN:DAYLIGHT
TZOFFSETFROM:+0100
TZOFFSETTO:+0200
TZNAME:CEST
DTSTART:19700329T020000
RRULE:FREQ=YEARLY;BYMONTH=3;BYDAY=-1SU
END:DAYLIGHT
BEGIN:STANDARD
TZOFFSETFROM:+0200
TZOFFSETTO:+0100
TZNAME:CET
DTSTART:19701025T030000
RRULE:FREQ=YEARLY;BYMONTH=10;BYDAY=-1SU
END:STANDARD
END:VTIMEZONE
BEGIN:VEVENT
UID:2485226:Event:1945057
DTSTAMP:20260423T133115Z
SUMMARY:Paris stage \"on day\" Méditations Guérisons énergétiques 
 : Méthode Coprs-Miroir Samedi 28  juin
DESCRIPTION:Stages%20M%C3%A9thode%20Corps-Miroir.pdf\nCher(e)s Ami(e)s
 ,\nLe stage de week-end du 28 – 29 juin est remplacé par une seule 
 journée dédiée au bien-être, à la connaissance de soi, et à la g
 uérison énergétique  le samedi 28 juin. \nCette journée n’est 
 pas le stage Méthode Corps-Miroir mais je partagerai avec vous mes co
 nnaissances de cette méthode et de ces outils que j’explore depuis 
 1993 et que j’utilise avec bonheur en séances privées de manière 
 professionnelle depuis plus de 10 ans.\nA travers des relaxations et m
 éditations comme outils de bien-être et de retour à l’harmonie, e
 t au regard des philosophies impliquées dans le processus de guériso
 n et de transformation, vous aurez l’occasion d’utiliser des « ou
 tils de la conscience » pour vous-même et pour les autres.\n- Ressen
 tir l’énergie et se percevoir comme un être d’énergie,\n- Appre
 ndre à diriger en conscience cette énergie et l’utilisée pour rel
 âcher des tensions, dans votre corps et dans votre vie, \n- Utiliser
  la « lumière blanche » pour soi-même et pour les autres,\n- Dé
 couvrir ou approfondir le langage des couleurs et la carte corps-consc
 ience-domaines de votre vie à travers les chakras pour une compréhen
 sion précise des déséquilibres relâchés,\n- Harmoniser les centre
 s et  le système énergétique.\nVotre inscription est nécessaire e
 t la participation financière est 80 €, ou 40 € si vous avez déj
 à participé à 1 ou 2 week-end ou 1 intensif Corps-Miroir et gratuit
  après 3 stages de week-end ou 1 intensif + 1 week-end ou 2 intensifs
 .\nRendez-vous samedi 28 juin à l’hôtel Mercure, 5 rue de Montyon 
 75009 Paris.  Nous nous retrouvons à partir de 8h30/8h45 pour les in
 scriptions et nous débuterons à 9h30. Une pause est prévue le matin
  et l’après-midi,  nous prendrons 1h30 pour le déjeuner, et la jo
 urnée se terminera …. vers 19h30, selon son déroulement.\nJe reste
  à votre entière disposition pour toute précision et serai ravie de
  partager avec vous cette journée dédiée au bien-être, à la conna
 issance de soi et à la guérison énergétique. Bienvenue !!\nChaleur
 eusement.\nBénédicte Audéoud. Tel : 06 03 18 59 40   ou   01 47
  70 66 87    Email : benergie@hotmail.com   Site : www.benergie.f
 r\n\nL'amour guérit - Tout peut être guéri - Nous sommes tous guér
 isseurs.\n\nPour plus d'information, aller sur https://epanews.fr/even
 ts/paris-stage-m-thode-coprs-miroir-28-29-juin-avec-annick-brofman
DTSTART;TZID=Europe/Paris:20140628T090000
DTEND;TZID=Europe/Paris:20140628T193000
CATEGORIES:75
LOCATION:Paris 9eme Hôtel mercure
WEBSITE:http://www.benergie.fr
URL:http://www.benergie.fr
CONTACT:06 03 18 59 40
ORGANIZER;CN=Bénergie:https://epanews.fr/profile/Benergie
ATTACH;FMTTYPE="image/jpeg":http://storage.ning.com/topology/rest/1.0/
 file/get/1663154497?profile=original
ATTENDEE;ROLE=REQ-PARTICIPANT;PARTSTAT=ACCEPTED;RSVP=TRUE;CN=Bénergie
 :https://epanews.fr/profile/Benergie
END:VEVENT
END:VCALENDAR
