BEGIN:VCALENDAR
PRODID:NingEventWidget-v1
VERSION:2.0
METHOD:PUBLISH
BEGIN:VTIMEZONE
TZID:Europe/Paris
X-LIC-LOCATION:Europe/Paris
BEGIN:DAYLIGHT
TZOFFSETFROM:+0100
TZOFFSETTO:+0200
TZNAME:CEST
DTSTART:19700329T020000
RRULE:FREQ=YEARLY;BYMONTH=3;BYDAY=-1SU
END:DAYLIGHT
BEGIN:STANDARD
TZOFFSETFROM:+0200
TZOFFSETTO:+0100
TZNAME:CET
DTSTART:19701025T030000
RRULE:FREQ=YEARLY;BYMONTH=10;BYDAY=-1SU
END:STANDARD
END:VTIMEZONE
BEGIN:VEVENT
UID:2485226:Event:540314
DTSTAMP:20260423T000856Z
SUMMARY:Ã©panouir sa complÃ©tude de Femme / chakra racine
DESCRIPTION:RedÃ©couvrons notre essence fÃ©minine et ses multiplesqual
 itÃ©s.Â Â \nPartageons au sein d'un cercle de femmes, en pleine lumiÃ¨
 re, notre expÃ©rience de vie, dans le respect, lâ€™alignement et lâ€™a
 ncrage.\nAuÂ moyen des voyages chamaniques au son du tambour, du chant
 , de la danse et desmÃ©ditations, nous vous accompagnons, Catherine DA
 RBORD et Jessica ALFON, avec bienveillance et amour vers la libÃ©ratio
 n de vos mÃ©moires et la transformation de vos croyances.Â \nLa traver
 sÃ©e des chakras sont des portes d'accÃ¨s privilÃ©giÃ©es pour explorer
  l'Ã©nergie spÃ©cifique qui se manifeste au niveau de chacun de ces ce
 ntres Ã©nergÃ©tiques.\nLaÂ  thÃ©rapie des chakras fait partie intÃ©gra
 nte de l'approche curative globale, en relation Ã©troite avec les sphÃ
 ¨res corporelle, Ã©motionnelle, psychique et spirituelle.\nÂ« Quels qu
 e soient les dÃ©vastations subies, les coups portÃ©s Ã  leur Ã©corce j
 usquâ€™au cÅ“ur, les grands-mÃ¨res nâ€™en dÃ©mordent pas : lâ€™amour, 
 lâ€™amour profond est le plus grand des guÃ©risseurs, le but suprÃªme,
  lâ€™engrais de lâ€™Ã¢me. Â»Â Â Â Â Â Â Â Â Â Â Â  -Clarissa PINKOLA E
 STES-\nÂ \n\nPour plus d'information, aller sur https://epanews.fr/eve
 nts/panouir-sa-compl-tude-de-femme-chakra-racine
DTSTART;TZID=Europe/Paris:20111009T000000
DTEND;TZID=Europe/Paris:20111009T235900
CATEGORIES:34800, clermont, "l'hÃ©rault"
LOCATION:La Coste
WEBSITE:
URL:
CONTACT:06 12 04 02 03
ORGANIZER:Jessica ALFON et Catherine DARBORD
ATTACH;FMTTYPE="image/jpeg":http://storage.ning.com/topology/rest/1.0/
 file/get/1662465174?profile=original
ATTENDEE;ROLE=REQ-PARTICIPANT;PARTSTAT=ACCEPTED;RSVP=TRUE;CN=Jessica:h
 ttps://epanews.fr/profile/Jessica
END:VEVENT
END:VCALENDAR
