BEGIN:VCALENDAR
PRODID:NingEventWidget-v1
VERSION:2.0
METHOD:PUBLISH
BEGIN:VTIMEZONE
TZID:Europe/Paris
X-LIC-LOCATION:Europe/Paris
BEGIN:DAYLIGHT
TZOFFSETFROM:+0100
TZOFFSETTO:+0200
TZNAME:CEST
DTSTART:19700329T020000
RRULE:FREQ=YEARLY;BYMONTH=3;BYDAY=-1SU
END:DAYLIGHT
BEGIN:STANDARD
TZOFFSETFROM:+0200
TZOFFSETTO:+0100
TZNAME:CET
DTSTART:19701025T030000
RRULE:FREQ=YEARLY;BYMONTH=10;BYDAY=-1SU
END:STANDARD
END:VTIMEZONE
BEGIN:VEVENT
UID:2485226:Event:2767611
DTSTAMP:20260421T105321Z
SUMMARY:pélerinage grotte sainte marie madeleine
DESCRIPTION:participation gratuite\ncoucou\nj'ai l'énorme chance d'ha
 biter tout la haut, au Plan d'Aups Ste Baume, là où il y a la grott
 e Ste Marie Madeleine. Je propose aujourd'hui une promenade parmi les
  énergies christiques qui baignent dans tout le massif, et sur terre 
 particulièrement ce jour 12 janvier 2017...Je propose un départ ent
 re 12h30 et 13h, Il suffit de m'appeler pour s'entendre sur votre beso
 in.\nPrévoir de bonnes chaussures de marche, et couvrez vous le temps
  tourne rapidement, on est à la montagne\nDaniel FERNANDEZ  \n\n\nPo
 ur plus d'information, aller sur https://epanews.fr/events/p-lerinage-
 grotte-sainte-marie-madeleine
DTSTART;TZID=Europe/Paris:20170106T123000
DTEND;TZID=Europe/Paris:20170106T160000
CATEGORIES:83
LOCATION:sainte baume
WEBSITE:
URL:
CONTACT:0618411581
ORGANIZER:Daniel Ste Baume
ATTACH;FMTTYPE="image/jpeg":http://storage.ning.com/topology/rest/1.0/
 file/get/1663631884?profile=original
ATTENDEE;ROLE=REQ-PARTICIPANT;PARTSTAT=ACCEPTED;RSVP=TRUE;CN=associati
 onAPERIA:https://epanews.fr/profile/associationAPERIA
END:VEVENT
END:VCALENDAR
