BEGIN:VCALENDAR
PRODID:NingEventWidget-v1
VERSION:2.0
METHOD:PUBLISH
BEGIN:VTIMEZONE
TZID:Europe/Paris
X-LIC-LOCATION:Europe/Paris
BEGIN:DAYLIGHT
TZOFFSETFROM:+0100
TZOFFSETTO:+0200
TZNAME:CEST
DTSTART:19700329T020000
RRULE:FREQ=YEARLY;BYMONTH=3;BYDAY=-1SU
END:DAYLIGHT
BEGIN:STANDARD
TZOFFSETFROM:+0200
TZOFFSETTO:+0100
TZNAME:CET
DTSTART:19701025T030000
RRULE:FREQ=YEARLY;BYMONTH=10;BYDAY=-1SU
END:STANDARD
END:VTIMEZONE
BEGIN:VEVENT
UID:2485226:Event:2145090
DTSTAMP:20260424T004509Z
SUMMARY:OxygÃ©nez votre Vie avec l'Atelier \"La Respiration, ClÃ© de V
 ie\" Ã  Paris animÃ© par Yann CorÃ©
DESCRIPTION:La Respiration est une clÃ© de vie. Elle permet Ã  la vie 
 de circuler dans tout notre corps, et dâ€™explorer en conscience chaqu
 e partie, chaque recoin de notre Ãªtre. En plus dâ€™apporter de lâ€™ox
 ygÃ¨ne Ã  nos cellules, elle vÃ©hicule lâ€™information nÃ©cessaire Ã  
 lâ€™Ã©volution. Elle est Ã©galement un vÃ©hicule pour la conscience.  
 Cet enseignement sâ€™est perdu au fil du temps et nous pouvons observe
 r aujourdâ€™hui que beaucoup dâ€™Ãªtres ne savent plus respirer consci
 emment. Ce processus est devenu inconscient voir secondaire dans nos s
 ociÃ©tÃ©s, dans notre quotidien. Bien respirer nous permet de nettoyer
 , de rÃ©gÃ©nÃ©rer notre corps et notre esprit.  Cela nous permet aussi
  une certaine stabilitÃ© physique (santÃ©), Ã©motionnel, mental et spi
 rituel.  Il est aujourdâ€™hui indispensable de rÃ©-apprendre Ã  respir
 er.  Câ€™est pour cela que je propose cet enseignement abordable et nÃ
 ©cessaire Ã  tous.   Je vous invite a venir redÃ©couvrir ce processus 
 vital en vous, simplement, a lâ€™aide dâ€™exercices, de pratiques et d
 e mÃ©ditation guidÃ©es, afin de vous re-familiariser avec cette foncti
 on primordiale qu'est la respiration.   Contenu de lâ€™aprÃ¨s midi:  -
  Introduction : Quâ€™est ce que la Respiration ? - Approche, Ã©coute d
 e la Respiration, oÃ¹ en Ãªtes-vous avec elle ? - Enseignements inspir
 Ã©s. - Exercices respiratoires. - Respiration et auto GuÃ©rison. - MÃ©
 ditation guidÃ©es. - Certaines pratiques seront accompagnÃ©es en musiq
 ue Live!    Horaires: 15h Ã  18h30  Tarif: 30 euros si inscription ava
 nt le 10 Novembre, 40 euros aprÃ¨s cette date.  Une ConfÃ©rence/Atelie
 r sur le thÃ¨me \"La Respiration, clÃ© de Vie\" aura lieu la veille, l
 e vendredi 9 Janvier de 20h Ã  22h.Elle sera une belle introduction Ã 
  l'Atelier.  Si vous avez participÃ© Ã  la ConfÃ©rence/Atelier, vous p
 ourrez bÃ©nÃ©ficier du tarif rÃ©duit, soit 45 euros la ConfÃ©rence/Ate
 lier + l'Atelier. Je vous invite Ã  faire les deux si vous le pouvez, 
 vous pouvez faire l'un ou l'autre sÃ©parÃ©ment.. .  Pour vous inscrire
 , contactez :  Yann au 06 24 34 44 24 ou par mail : conscienceducoeur9
 99@gmail.com   Pour confirmer votre inscription, merci d'envoyer un ma
 il ou un sms en indiquant le nombre de personnes Ã  inscrire.  Merci d
 e partager lâ€™info avec vos amis! N'hÃ©sitez pas Ã  partagez l'Ã©vÃ©n
 ement!  Bienvenue a tous!   Accompagnement individuel sur Paris et Tou
 louse:  RÃªves Ã©veillÃ©s, massage Ã©nergÃ©tique, Reconnexion MD, Soin
 s Ã©nergÃ©tiques, Accompagnement Holistique personnalisÃ©, Accompagnem
 ent en fin de Vie,...  Pour en savoir plus:  Site web : WWW.CONSCIENCE
 DUCOEUR.COM  page Facebook: \"La Conscience du Coeur\": https://www.fa
 cebook.com/conscienceducoeur999\n\nPour plus d'information, aller sur 
 https://epanews.fr/events/oxyg-nez-votre-vie-avec-l-atelier-la-respira
 tion-cl-de-vie-pari-2
DTSTART;TZID=Europe/Paris:20150110T150000
DTEND;TZID=Europe/Paris:20150110T183000
CATEGORIES:75
LOCATION:Ã  Paris (18Ã¨me)
WEBSITE:http://www.conscienceducoeur.com
URL:http://www.conscienceducoeur.com
CONTACT:06 24 34 44 24
ORGANIZER;CN="Conscience du Coeur":https://epanews.fr/profile/Conscien
 ceduCoeur
ATTACH;FMTTYPE="image/jpeg":http://storage.ning.com/topology/rest/1.0/
 file/get/1663250153?profile=original
ATTENDEE;ROLE=REQ-PARTICIPANT;PARTSTAT=ACCEPTED;RSVP=TRUE;CN="Conscien
 ce du Coeur":https://epanews.fr/profile/ConscienceduCoeur
END:VEVENT
END:VCALENDAR
