BEGIN:VCALENDAR
PRODID:NingEventWidget-v1
VERSION:2.0
METHOD:PUBLISH
BEGIN:VTIMEZONE
TZID:Europe/Paris
X-LIC-LOCATION:Europe/Paris
BEGIN:DAYLIGHT
TZOFFSETFROM:+0100
TZOFFSETTO:+0200
TZNAME:CEST
DTSTART:19700329T020000
RRULE:FREQ=YEARLY;BYMONTH=3;BYDAY=-1SU
END:DAYLIGHT
BEGIN:STANDARD
TZOFFSETFROM:+0200
TZOFFSETTO:+0100
TZNAME:CET
DTSTART:19701025T030000
RRULE:FREQ=YEARLY;BYMONTH=10;BYDAY=-1SU
END:STANDARD
END:VTIMEZONE
BEGIN:VEVENT
UID:2485226:Event:2752583
DTSTAMP:20260422T152201Z
SUMMARY:OVNIS et autres phénomènes inexpliqués
DESCRIPTION:La vie existe-t-elle ailleurs que sur terre ? Sous quelle 
 forme ? Avons-nous des preuves.? Le fait de connaître l’existence d
 es extraterrestres modifierait-il notre vie ? En quoi ? Y a-t-il un li
 en entre Maitreya et les extraterrestres ? Lequel ?\n\n\nOuvert à tou
 t public. Débat accompagné de vidéos de B. Creme. L'atelier se term
 ine par une méditation de transmission.\nSalle Studio 2e étage sans 
 ascenseur\n\nPour plus d'information, aller sur https://epanews.fr/eve
 nts/ovnis-et-autres-ph-nom-nes-inexpliqu-s
DTSTART;TZID=Europe/Paris:20170304T020000
DTEND;TZID=Europe/Paris:20170304T180000
CATEGORIES:75
LOCATION:L'entrepôt
WEBSITE:
URL:
CONTACT:
ORGANIZER;CN="Amis de Partage International":https://epanews.fr/profil
 e/AmisdePartageInternational
ATTACH;FMTTYPE="image/jpeg":http://storage.ning.com/topology/rest/1.0/
 file/get/1663604458?profile=original
ATTENDEE;ROLE=REQ-PARTICIPANT;PARTSTAT=ACCEPTED;RSVP=TRUE;CN="Amis de 
 Partage International":https://epanews.fr/profile/AmisdePartageInterna
 tional
END:VEVENT
END:VCALENDAR
