BEGIN:VCALENDAR
PRODID:NingEventWidget-v1
VERSION:2.0
METHOD:PUBLISH
BEGIN:VTIMEZONE
TZID:Europe/Paris
X-LIC-LOCATION:Europe/Paris
BEGIN:DAYLIGHT
TZOFFSETFROM:+0100
TZOFFSETTO:+0200
TZNAME:CEST
DTSTART:19700329T020000
RRULE:FREQ=YEARLY;BYMONTH=3;BYDAY=-1SU
END:DAYLIGHT
BEGIN:STANDARD
TZOFFSETFROM:+0200
TZOFFSETTO:+0100
TZNAME:CET
DTSTART:19701025T030000
RRULE:FREQ=YEARLY;BYMONTH=10;BYDAY=-1SU
END:STANDARD
END:VTIMEZONE
BEGIN:VEVENT
UID:2485226:Event:55703
DTSTAMP:20260420T090020Z
SUMMARY:Ouverture de conscience avec le Tarot et focus de Monroe
DESCRIPTION:Les ateliers ont pour but d'expérimenter.\nPlusieurs tech
 niques d'éveil sont utilisées, certaines empruntées au Chan, d'autr
 es à l'art-thérapie etc. Les sons hemi-sync de Monroe permettent de 
 faire des prises de conscience en focus 10 et focus 12 (expansion de c
 onscience) Le Tarot permet une approche intérieure pour des questions
  personnelles, la personne y trouve elle même ses réponses.\nLe trav
 ail se fait en petits groupes. Chacun apporte un plat et nous mangeons
  ensemble en partageant.\n\nL'atelier précédant traitait des peurs e
 t de la conversion de ces dernières en potentiels positifs. Ce nouvel
  atelier abordera plus l'expansion de conscience, avec des techniques 
 précise et réutilisables chez soi.\n\nPour plus d'information, aller
  sur https://epanews.fr/events/ouverture-de-conscience-avec
DTSTART;TZID=Europe/Paris:20100513T000000
DTEND;TZID=Europe/Paris:20100513T235900
CATEGORIES:33930
LOCATION:Vendays Montalivet
WEBSITE:http://www.tarolivier.com
URL:http://www.tarolivier.com
CONTACT:05 56 09 11 05 ou 06 76 77 33 72
ORGANIZER;CN="Olivier Southgate":https://epanews.fr/profile/OlivierSou
 thgate
ATTACH;FMTTYPE="image/jpeg":http://storage.ning.com/topology/rest/1.0/
 file/get/1662298170?profile=original
ATTENDEE;ROLE=REQ-PARTICIPANT;PARTSTAT=ACCEPTED;RSVP=TRUE;CN="Olivier 
 Southgate":https://epanews.fr/profile/OlivierSouthgate
END:VEVENT
END:VCALENDAR
