BEGIN:VCALENDAR
PRODID:NingEventWidget-v1
VERSION:2.0
METHOD:PUBLISH
BEGIN:VTIMEZONE
TZID:Europe/Paris
X-LIC-LOCATION:Europe/Paris
BEGIN:DAYLIGHT
TZOFFSETFROM:+0100
TZOFFSETTO:+0200
TZNAME:CEST
DTSTART:19700329T020000
RRULE:FREQ=YEARLY;BYMONTH=3;BYDAY=-1SU
END:DAYLIGHT
BEGIN:STANDARD
TZOFFSETFROM:+0200
TZOFFSETTO:+0100
TZNAME:CET
DTSTART:19701025T030000
RRULE:FREQ=YEARLY;BYMONTH=10;BYDAY=-1SU
END:STANDARD
END:VTIMEZONE
BEGIN:VEVENT
UID:2485226:Event:784246
DTSTAMP:20260422T051608Z
SUMMARY:Oser sa voix, oser son Grain de folie !
DESCRIPTION:4 jours en immersion vocale.Sandrine Le Brun-Bonhomme vou
 s propose d’explorer, de découvrir, de se laisser étonner par nos 
 ressources vocales. Parce que la voix dit tout de nous dans l’instan
 t. Nos fragilités, nos émotions, nos joies, nos tristesses, notre pu
 issance… Elle s’échappe, chante, crie. Nous irons à la rencontre
  de toutes ces voix qui nous animent.  Jeux vocaux, improvisation, ch
 ants, corps en mouvement, conscience du corps instrument, rires…Rév
 eillons la diva, le tarzan, l’animal, les dragons… réveillons nos
  voix !\n\nPour plus d'information, aller sur https://epanews.fr/event
 s/oser-sa-voix-oser-son-grain-de-folie
DTSTART;TZID=Europe/Paris:20120516T000000
DTEND;TZID=Europe/Paris:20120520T235900
CATEGORIES:07
LOCATION:Lyon
WEBSITE:http://www.sandrinelebrunbo.com/#/oser-sa-voix/3487768
URL:http://www.sandrinelebrunbo.com/#/oser-sa-voix/3487768
CONTACT:06 78 10 31 86
ORGANIZER;CN="Le Village du lac":https://epanews.fr/profile/LeVillaged
 ulac
ATTACH;FMTTYPE="image/jpeg":http://storage.ning.com/topology/rest/1.0/
 file/get/1662599366?profile=original
ATTENDEE;ROLE=REQ-PARTICIPANT;PARTSTAT=ACCEPTED;RSVP=TRUE;CN="Le Villa
 ge du lac":https://epanews.fr/profile/LeVillagedulac
END:VEVENT
END:VCALENDAR
