BEGIN:VCALENDAR
PRODID:NingEventWidget-v1
VERSION:2.0
METHOD:PUBLISH
BEGIN:VTIMEZONE
TZID:Europe/Paris
X-LIC-LOCATION:Europe/Paris
BEGIN:DAYLIGHT
TZOFFSETFROM:+0100
TZOFFSETTO:+0200
TZNAME:CEST
DTSTART:19700329T020000
RRULE:FREQ=YEARLY;BYMONTH=3;BYDAY=-1SU
END:DAYLIGHT
BEGIN:STANDARD
TZOFFSETFROM:+0200
TZOFFSETTO:+0100
TZNAME:CET
DTSTART:19701025T030000
RRULE:FREQ=YEARLY;BYMONTH=10;BYDAY=-1SU
END:STANDARD
END:VTIMEZONE
BEGIN:VEVENT
UID:2485226:Event:2232006
DTSTAMP:20260421T175847Z
SUMMARY:Oser reussir
DESCRIPTION:DÃ©cider de donner un sens Ã  sa vie pour donner un sens Ã
   son universNous changeons constamment de Â« monde Â», allons de Â« c
 rises Â« en Â« crises Â»Ã  une vitesse importante. Nous rencontrons de
 s personnes dÃ©sespÃ©rÃ©es face aux changements de paradigmes sur tous
  les plans, Ã©conomiques, relationnel, moralâ€¦Si nous ne dÃ©cidons pa
 s dâ€™acquÃ©rir des connaissances et des outils pratiques revisitÃ©s Ã
   la lumiÃ¨re des sciences modernes nous serons bientÃ´t complÃ¨tement
 s dÃ©passes !Cet ATELIER prÃ©sente une technique PRATIQUE, SIMPLE et E
 FFICACE qui permet de RESOUDRE les difficultÃ©s liÃ©es Ã  lâ€™INSECURI
 TE en se servant des nouvelles connaissances de la Science Moderne.APP
 ENDRE Ã  PROGRAMMER son Â« ORDINATEUR QUANTIQUE Â», apprentissage la Â
 « saisie Â» des informations afin de fonctionner sur un MODE thÃ©matiq
 ue et non alÃ©atoireâ€¦Oui câ€™est Ã  la portÃ©e de toute personne aya
 nt fait le choix de changer sa vie !Les clefs FONDAMENTALES pour y par
 venir vous seront transmises par GILLES :DÃ©couvrir sa vraie nature, c
 omment, dans quel but ?Ressentir la SÃ©curitÃ© Interne, dÃ©velopper le
 s attitudes adaptÃ©es Ã  la Â« rÃ©ussite Â»â€¦.Les nouveaux paradigmes
  quantiques, appliquÃ©s au quotidien pour la REUSSITE DE NOS BUTSâ€¦Le
  MIRACLE QUANTIQUE, SCIENCE DE LA SAGESSEâ€¦ALLER DANS SON CÅ’URLa sci
 ence de Lâ€™INTENTION, le PRINCIPE DU MIROIR DUAL, LA NON SEPARATIONâ€
 ¦Chaque participant fera lâ€™expÃ©rience de la mÃ©thode et aura les ou
 tils nÃ©cessaires pour mettre en pratiquela technique dans sa vie quot
 idienne pour matÃ©rialiser ses objectifs !Cette technique est la SOLUT
 ION RADICALE pour changer votre perspective en prenant de la Â« HAUTEU
 R Â», les rÃ©sultats objectivÃ©s par de nombreux participants sont qua
 lifiÃ©s de Â« spectaculaires Â», Â« rapides Â«, Â« objectivables Â» â€
 ¦sur des situations de Â« crises Â», matÃ©rielles, affectivesâ€¦ Â« DE
 VENEZ CREATEUR CONSCIENT DE VOTRE MONDE Â»avec la mÃ©thode Quantum Att
 itudeÂ®\nPour de plus amples renseignements : mimi_glob@yahoo.fr\nwww.
 gilles-placet.com\nMyriam\n\nPour plus d'information, aller sur https:
 //epanews.fr/events/oser-reussir
DTSTART;TZID=Europe/Paris:20150410T000000
DTEND;TZID=Europe/Paris:20150410T235900
CATEGORIES:34
LOCATION:Montpellier
WEBSITE:http://www.gilles-placet.com
URL:http://www.gilles-placet.com
CONTACT:0981923522
ORGANIZER;CN=Mimindia:https://epanews.fr/profile/MyriamChaabane
ATTACH;FMTTYPE="image/jpeg":
ATTENDEE;ROLE=REQ-PARTICIPANT;PARTSTAT=ACCEPTED;RSVP=TRUE;CN=Mimindia:
 https://epanews.fr/profile/MyriamChaabane
END:VEVENT
END:VCALENDAR
