BEGIN:VCALENDAR
PRODID:NingEventWidget-v1
VERSION:2.0
METHOD:PUBLISH
BEGIN:VTIMEZONE
TZID:Europe/Paris
X-LIC-LOCATION:Europe/Paris
BEGIN:DAYLIGHT
TZOFFSETFROM:+0100
TZOFFSETTO:+0200
TZNAME:CEST
DTSTART:19700329T020000
RRULE:FREQ=YEARLY;BYMONTH=3;BYDAY=-1SU
END:DAYLIGHT
BEGIN:STANDARD
TZOFFSETFROM:+0200
TZOFFSETTO:+0100
TZNAME:CET
DTSTART:19701025T030000
RRULE:FREQ=YEARLY;BYMONTH=10;BYDAY=-1SU
END:STANDARD
END:VTIMEZONE
BEGIN:VEVENT
UID:2485226:Event:164685
DTSTAMP:20260422T002332Z
SUMMARY:OSADAY'S: des jours pas comme les autres...
DESCRIPTION:Ces deux jours-là les praticiens d'OSADA vous attendent 
 pour vous faire découvrir à prix doux un échantillon de soins 
 et d'ateliers, tous aux appellations d'origine contrôlée (cliquez s
 ur la page intervenants du site www.espaceosada.com pour les connaîtr
 e).\nPréparez-vous à l'immersion totale et en attendant, faites-n
 ous la pub en en parlant autour de vous !!\nA bientôt.\nHalchka et 
 MaximeOsadays.jpg\n\nPour plus d'information, aller sur https://epanew
 s.fr/events/osadays-des-jours-pas-comme
DTSTART;TZID=Europe/Paris:20101204T110000
DTEND;TZID=Europe/Paris:20101205T190000
CATEGORIES:75
LOCATION:Paris
WEBSITE:http://www.espaceosada.fr/
URL:http://www.espaceosada.fr/
CONTACT:0145412703
ORGANIZER:Maxime et Halchka
ATTACH;FMTTYPE="image/jpeg":http://storage.ning.com/topology/rest/1.0/
 file/get/1662367305?profile=original
ATTENDEE;ROLE=REQ-PARTICIPANT;PARTSTAT=ACCEPTED;RSVP=TRUE;CN=Max:https
 ://epanews.fr/profile/MaximeRatie
END:VEVENT
END:VCALENDAR
