BEGIN:VCALENDAR
PRODID:NingEventWidget-v1
VERSION:2.0
METHOD:PUBLISH
BEGIN:VTIMEZONE
TZID:Europe/Paris
X-LIC-LOCATION:Europe/Paris
BEGIN:DAYLIGHT
TZOFFSETFROM:+0100
TZOFFSETTO:+0200
TZNAME:CEST
DTSTART:19700329T020000
RRULE:FREQ=YEARLY;BYMONTH=3;BYDAY=-1SU
END:DAYLIGHT
BEGIN:STANDARD
TZOFFSETFROM:+0200
TZOFFSETTO:+0100
TZNAME:CET
DTSTART:19701025T030000
RRULE:FREQ=YEARLY;BYMONTH=10;BYDAY=-1SU
END:STANDARD
END:VTIMEZONE
BEGIN:VEVENT
UID:2485226:Event:146421
DTSTAMP:20260421T141011Z
SUMMARY:Onsei-Do, la Voie du Son : stage d'initiation
DESCRIPTION:Kototama, le chant des \"mots-âmes\", nous invite à l'é
 coute de l'Etre,\nà la présence simple à l'Ici-Maintenant, par la r
 ésonance intérieure des sons originels.\nMon intention en proposant 
 des stages est simplement d'offrir un espace de présence\ndans lequel
  chacun peut se percevoir comme Cela qui Vit au cœur du Silence…\nJ
 e célèbre à chaque stage que j'anime la chance de pouvoir partager 
 avec toutes celles et ceux qui y participent\n la joie de \"résonner
 \" ensemble, mêlant nos voix par le chant des mots-âmes, redécouvra
 nt par le Son l'Unité originelle...\nCe stage d'initiation est compos
 é de temps de silence, de temps de partage de conscience, de temps d'
 enseignement sur l'essence du principe de Kototama, et de temps de pra
 tique collective des mots-âmes.\nCe séminaire peut vous intéresser 
 si :\n- vous souhaitez faire un premier pas dans la pratique du Son co
 mme soutien du retour à la présence simple\n - vous avez l'élan de 
 passer un week-end à \"résonner\" avec votre coeur, plutôt que de \
 "raisonner\" avec votre tête...\nVous trouverez tous les détails du 
 stage sur mon site www.onsei-do.com\n\nPour plus d'information, aller 
 sur https://epanews.fr/events/onseido-la-voie-du-son-stage
DTSTART;TZID=Europe/Paris:20101211T000000
DTEND;TZID=Europe/Paris:20101212T235900
CATEGORIES:75
LOCATION:Centre Arkanciel
WEBSITE:http://maps.google.com/maps?f=q&source=s_q&hl=fr&geocode=&q=17
 +Avenue+de+Paris,+Vincennes,+France&sll=37.0625,-95.677068&sspn=54.665
 451,135.263672&ie=UTF8&hq=&hnear=17+Avenue+de+Paris,+94300+Vincennes,+
 Val-de-Marne,+Ile-de-France,+France&ll=48.844299,2.435188&spn=0.011227
 ,0.033023&z=16&iwloc=A
URL:http://maps.google.com/maps?f=q&source=s_q&hl=fr&geocode=&q=17+Ave
 nue+de+Paris,+Vincennes,+France&sll=37.0625,-95.677068&sspn=54.665451,
 135.263672&ie=UTF8&hq=&hnear=17+Avenue+de+Paris,+94300+Vincennes,+Val-
 de-Marne,+Ile-de-France,+France&ll=48.844299,2.435188&spn=0.011227,0.0
 33023&z=16&iwloc=A
CONTACT:0686595716
ORGANIZER;CN="Isabelle Padovani":https://epanews.fr/profile/IsabellePa
 dovani
ATTACH;FMTTYPE="image/jpeg":http://storage.ning.com/topology/rest/1.0/
 file/get/1662354312?profile=original
ATTENDEE;ROLE=REQ-PARTICIPANT;PARTSTAT=ACCEPTED;RSVP=TRUE;CN="Isabelle
  Padovani":https://epanews.fr/profile/IsabellePadovani
END:VEVENT
END:VCALENDAR
