BEGIN:VCALENDAR
PRODID:NingEventWidget-v1
VERSION:2.0
METHOD:PUBLISH
BEGIN:VTIMEZONE
TZID:Europe/Paris
X-LIC-LOCATION:Europe/Paris
BEGIN:DAYLIGHT
TZOFFSETFROM:+0100
TZOFFSETTO:+0200
TZNAME:CEST
DTSTART:19700329T020000
RRULE:FREQ=YEARLY;BYMONTH=3;BYDAY=-1SU
END:DAYLIGHT
BEGIN:STANDARD
TZOFFSETFROM:+0200
TZOFFSETTO:+0100
TZNAME:CET
DTSTART:19701025T030000
RRULE:FREQ=YEARLY;BYMONTH=10;BYDAY=-1SU
END:STANDARD
END:VTIMEZONE
BEGIN:VEVENT
UID:2485226:Event:756120
DTSTAMP:20260423T212715Z
SUMMARY:Om Chorale, chorale de guérison
DESCRIPTION:Samedi 21 avril 2012 de 14h00 à 16h00 à PARIS\nLa OM CH
 ORALE est une chorale de sons universels. C’est un moment d’unité
  des cœurs. Un moment de douceur, d’intériorité et d’expression
  du divin à travers la communion de nos voix.Inspirée de la philosop
 hie de Sri Aurobindo, la OM CHORALE vous invite à contribuer à une 
 nouvelle forme de partage et d’entre-aide, et d’aider à l’élé
 vation vibratoire de la planète et de chacun.Elle est gratuite, pour 
 tous, et ouverte à tous.Rendez-vous à 13h45 devant l’entrée de la
  Cité Internationale des Arts.Il est préférable de nous prévenir a
 u préalable de votre venue (le nombre de places étant limité par l
 ’espace d’accueil)Plus d’informations sur www.flauravie.com (h
 ttp://www.flauravie.com/om_chorale.html)\net cliquez sur j'aime sur le
  facebook https://www.facebook.com/events/313004322098233/\nAssociatio
 n Flauravie (suivez-nous aussi sur facebook)Informations et contact :
 Frédéric Florens-Haugerudfrederic.florens@live.frtél. 0668035462\n\
 nPour plus d'information, aller sur https://epanews.fr/events/om-chora
 le-chorale-de-gu-rison
DTSTART;TZID=Europe/Paris:20120421T020000
DTEND;TZID=Europe/Paris:20120421T160000
CATEGORIES:75
LOCATION:PARIS
WEBSITE:
URL:
CONTACT:0668035462
ORGANIZER;CN="Frédéric Florens-Haugerud":https://epanews.fr/profile/
 florens_haugerud
ATTACH;FMTTYPE="image/jpeg":http://storage.ning.com/topology/rest/1.0/
 file/get/1662587175?profile=original
ATTENDEE;ROLE=REQ-PARTICIPANT;PARTSTAT=ACCEPTED;RSVP=TRUE;CN="Frédér
 ic Florens-Haugerud":https://epanews.fr/profile/florens_haugerud
ATTENDEE;ROLE=REQ-PARTICIPANT;PARTSTAT=TENTATIVE;RSVP=TRUE;CN=Karine:h
 ttps://epanews.fr/profile/Karine184
END:VEVENT
END:VCALENDAR
