BEGIN:VCALENDAR
PRODID:NingEventWidget-v1
VERSION:2.0
METHOD:PUBLISH
BEGIN:VTIMEZONE
TZID:Europe/Paris
X-LIC-LOCATION:Europe/Paris
BEGIN:DAYLIGHT
TZOFFSETFROM:+0100
TZOFFSETTO:+0200
TZNAME:CEST
DTSTART:19700329T020000
RRULE:FREQ=YEARLY;BYMONTH=3;BYDAY=-1SU
END:DAYLIGHT
BEGIN:STANDARD
TZOFFSETFROM:+0200
TZOFFSETTO:+0100
TZNAME:CET
DTSTART:19701025T030000
RRULE:FREQ=YEARLY;BYMONTH=10;BYDAY=-1SU
END:STANDARD
END:VTIMEZONE
BEGIN:VEVENT
UID:2485226:Event:1280520
DTSTAMP:20260422T130342Z
SUMMARY:Ojasvin, gardien de la tradition Maori en Sud ArdÃ¨che fin mai
DESCRIPTION:Â Le GRANDMOTHERS HEALING HAKA a Ã©tÃ© crÃ©Ã© par Mere Tew
 ake Tana et son petit fils Ojasvin Kingi Davis en 1998. Ce haka partic
 ulier comprend toute la sagesse et l'amour de la tradition des Grands-
 MÃ¨res Maori Waitaha, gardiennes de l'eau. Il est destinÃ© Ã  tous, ho
 mmes et femmes de tout Ã¢ge. Il est lÃ  pour tous ceux qui veulent Ã©q
 uilibrer les Ã©nergies masculines et fÃ©minines et crÃ©er la paix en e
 ux et pour la Terre MÃ¨re. Il nous encourage Ã©galement Ã  retrouver n
 os propres racines culturelles qui ont parfois tendance Ã  disparaÃ®tr
 e.\nOJASVIN KINGI DAVIS est Maori du peuple Ngaitupoto, Ngatihine, Nga
 puhi d'Aotearoa. Sa lignÃ©e ancestrale et les traditions de sa famille
 , remontent aux origines de Waitaha et Waiomu. Il est aujourd'hui l'un
  des reprÃ©sentants officiels des Maoris et il parcoure le monde avec 
 son Ã©pouse IRIS HAEUSERMANN DAVIS. Tous deux sont enseignants du Yoga
  de l'Apprentissage IntÃ©gral de l'Ã©cole Min-I.L.I.T, qu'ils intÃ¨gre
 nt dans le Grandmothers Healing Haka Integral Learning Programme. DÃ©c
 ouvrez les: www.grandmothershealinghaka.com\nTarifs : 160â‚¬ les 24 (1
 8h) 25, 26 mai , 300â‚¬ du 24 au soir au 28 mai (17h) HÃ©bergement en 
 sus : chambres 14â‚¬, dortoirs 10â‚¬, tente 7â‚¬/nuit /personne Tous r
 enseignements utiles : assosacretoi@gmail.com\n\nPour plus d'informati
 on, aller sur https://epanews.fr/events/ojasvin-gardien-de-la-traditio
 n-maori-en-sud-ard-che
DTSTART;TZID=Europe/Paris:20130524T060000
DTEND;TZID=Europe/Paris:20130528T170000
CATEGORIES:07
LOCATION:PAYZAC
WEBSITE:http://www.pratiques-energetiques.com
URL:http://www.pratiques-energetiques.com
CONTACT:0981322201
ORGANIZER;CN="Marie-HÃ©lÃ¨ne JOUDIOU":https://epanews.fr/profile/Assoc
 iationSacreToi
ATTACH;FMTTYPE="image/jpeg":http://storage.ning.com/topology/rest/1.0/
 file/get/1662801030?profile=original
ATTENDEE;ROLE=REQ-PARTICIPANT;PARTSTAT=ACCEPTED;RSVP=TRUE;CN="Marie-HÃ
 ©lÃ¨ne JOUDIOU":https://epanews.fr/profile/AssociationSacreToi
END:VEVENT
END:VCALENDAR
