BEGIN:VCALENDAR
PRODID:NingEventWidget-v1
VERSION:2.0
METHOD:PUBLISH
BEGIN:VTIMEZONE
TZID:Europe/Paris
X-LIC-LOCATION:Europe/Paris
BEGIN:DAYLIGHT
TZOFFSETFROM:+0100
TZOFFSETTO:+0200
TZNAME:CEST
DTSTART:19700329T020000
RRULE:FREQ=YEARLY;BYMONTH=3;BYDAY=-1SU
END:DAYLIGHT
BEGIN:STANDARD
TZOFFSETFROM:+0200
TZOFFSETTO:+0100
TZNAME:CET
DTSTART:19701025T030000
RRULE:FREQ=YEARLY;BYMONTH=10;BYDAY=-1SU
END:STANDARD
END:VTIMEZONE
BEGIN:VEVENT
UID:2485226:Event:2837874
DTSTAMP:20260422T043459Z
SUMMARY:Oh Verbe infini: poÃ©sie, conte et mouvement du corps
DESCRIPTION:Lâ€™Ã©tÃ© est une pÃ©riode propice Ã  la dÃ©lectation de f
 ruits juteux et savoureux â€¦ quâ€™il en soit ainsi de nos mots !\nhtt
 p://middaywoman.com/2016/12/oh-verbe-infini-poesie-conte-et-jeux-de-ca
 rtes.htmlVerbe, PoÃ©sie, Contes et CrÃ©ations de CartesÂ \nJe nous inv
 ite Ã Â cueillir les fruits de notre VerbeÂ , Ã  lâ€™origine de nos cr
 Ã©ations orales et Ã©crites en se reliant Ã  notre source et Ã  notre 
 prose.Â \nChacun trouveraÂ son style, sa voix et sa poÃ©sieÂ â€¦ pour 
 Ã©crire, conter, rÃ©aliser son jeu de cartes et exprimerÂ la quintesse
 nce de sa beautÃ©.Le Verbe est un trÃ©sor infini:Â notre vocabulaire Ã
 ©volue, nos voix sont singuliÃ¨res et tous les jours des mots neufs Ã©
 mergent pour matÃ©rialiser de nouveaux possibles.Nous les tisserons en
 tre eux tout commeÂ nous assemblerons les arts Ã©crits et oraux, les m
 ouvementsÂ pour mieux nous en dÃ©lecter.Amoureux des mots,Â de toutes 
 les poÃ©sies, des calligraphiesÂ et du mouvement, langage premier et i
 ncarnÃ© du Verbe; aux amoureux des longues veillÃ©es, des jeux de cart
 es pour symboliser â€¦la porte des langues infinies et communes nous e
 st grande ouverte.Ce stage se veut un processus crÃ©atif sur une semai
 ne pourÂ exprimer son univers par tous les rayons du VerbeÂ et reparti
 r avec ses Ã©bauches : recueil de poÃ¨mes, jeux de cartes; contes; mou
 vements signifiants du corps â€¦ une richesse qui coule de source et s
 ans cesse renouvelÃ©e.Ce stage se tiendra du 9 Juillet au 16 Juillet d
 ans un lieu de toute beautÃ©, lâ€™espace KiginiaRiviÃ¨re, ForÃªt, nour
 riture vÃ©gÃ©tarienne et colorÃ©e, espace dâ€™accueil de soi en toute 
 vÃ©ritÃ© avec la nature et les autres.Prix; 680 euros tout compris don
 t les repas, les ateliers, lâ€™hÃ©rbergement.DÃ©marrage Ã  14h le prem
 ier jour et fin Ã  16 h le dernier jour.Pour toute question sur le con
 tenu du stage,Â contactez Katia au 06 85 33 25 59 ou Ã  middaywoman@gm
 ail.comhttp://middaywoman.com/Pour l'inscription contactez Virginie Ã 
  l'espace Kignia : espacekignia@gmail.comou au 06 99 83 63 22ou envoye
 r les arrhes de 120 euros Ã Â Espace Kignia / La Fuie3 impasse du Four
 17 770 Saint-Hilaire de VillefrancheLe lieu du stage:Â http://www.span
 aturelkignia.com/Â ; Le stage dÃ©marre Ã  16h le premier jour et se te
 rmine Ã  17 h le dernier jour (Gare la plus proche: Saint-Jean dâ€™Ang
 ely\n\nPour plus d'information, aller sur https://epanews.fr/events/oh
 -verbe-infini-po-sie-conte-et-mouvement-du-corps
DTSTART;TZID=Europe/Paris:20170709T160000
DTEND;TZID=Europe/Paris:20170716T160000
CATEGORIES:17
LOCATION:saint-jean d'angely ; la fuie
WEBSITE:http://middaywoman.com/2016/12/oh-verbe-infini-poesie-conte-et
 -jeux-de-cartes.html
URL:http://middaywoman.com/2016/12/oh-verbe-infini-poesie-conte-et-jeu
 x-de-cartes.html
CONTACT:0685332559
ORGANIZER;CN=Katia:https://epanews.fr/profile/Katia
ATTACH;FMTTYPE="image/jpeg":http://storage.ning.com/topology/rest/1.0/
 file/get/1663672688?profile=original
ATTENDEE;ROLE=REQ-PARTICIPANT;PARTSTAT=ACCEPTED;RSVP=TRUE;CN=Katia:htt
 ps://epanews.fr/profile/Katia
END:VEVENT
END:VCALENDAR
