BEGIN:VCALENDAR
PRODID:NingEventWidget-v1
VERSION:2.0
METHOD:PUBLISH
BEGIN:VTIMEZONE
TZID:Europe/Paris
X-LIC-LOCATION:Europe/Paris
BEGIN:DAYLIGHT
TZOFFSETFROM:+0100
TZOFFSETTO:+0200
TZNAME:CEST
DTSTART:19700329T020000
RRULE:FREQ=YEARLY;BYMONTH=3;BYDAY=-1SU
END:DAYLIGHT
BEGIN:STANDARD
TZOFFSETFROM:+0200
TZOFFSETTO:+0100
TZNAME:CET
DTSTART:19701025T030000
RRULE:FREQ=YEARLY;BYMONTH=10;BYDAY=-1SU
END:STANDARD
END:VTIMEZONE
BEGIN:VEVENT
UID:2485226:Event:175062
DTSTAMP:20260424T161122Z
SUMMARY:Nutrition & groupe sanguin
DESCRIPTION:Guillaume Hemery vous propose :\nA l'aide de l'approche hy
 gionomiste enseignée par le collège des naturopathes du Québec et d
 es études sur les Groupes Sanguins du Dr\nD'Adamo, de découvrir le c
 orps humain et son fonctionnement.\n \nVous avez tout en main pour vo
 us occuper de votre santé.\n \n\n\n\n\nParticipation financière : 5
 €\n \n\nPour plus d'information, aller sur https://epanews.fr/event
 s/nutrition-groupe-sanguin
DTSTART;TZID=Europe/Paris:20110121T200000
DTEND;TZID=Europe/Paris:20110121T213000
CATEGORIES:83
LOCATION:Salon de thé Bio & Bien-être \"Come à la maison\" Ollioule
 s
WEBSITE:http://www.83ollioules.com/salon-de-the
URL:http://www.83ollioules.com/salon-de-the
CONTACT:04.89.29.67.00
ORGANIZER:Guillaume Hemery
ATTACH;FMTTYPE="image/jpeg":http://storage.ning.com/topology/rest/1.0/
 file/get/1662369643?profile=original
ATTENDEE;ROLE=REQ-PARTICIPANT;PARTSTAT=ACCEPTED;RSVP=TRUE;CN="Bezard s
 abryna":https://epanews.fr/profile/Bezardsabryna
ATTENDEE;ROLE=REQ-PARTICIPANT;PARTSTAT=TENTATIVE;RSVP=TRUE;CN=letiziaw
 endy:https://epanews.fr/profile/letiziawendy
END:VEVENT
END:VCALENDAR
