BEGIN:VCALENDAR
PRODID:NingEventWidget-v1
VERSION:2.0
METHOD:PUBLISH
BEGIN:VTIMEZONE
TZID:Europe/Paris
X-LIC-LOCATION:Europe/Paris
BEGIN:DAYLIGHT
TZOFFSETFROM:+0100
TZOFFSETTO:+0200
TZNAME:CEST
DTSTART:19700329T020000
RRULE:FREQ=YEARLY;BYMONTH=3;BYDAY=-1SU
END:DAYLIGHT
BEGIN:STANDARD
TZOFFSETFROM:+0200
TZOFFSETTO:+0100
TZNAME:CET
DTSTART:19701025T030000
RRULE:FREQ=YEARLY;BYMONTH=10;BYDAY=-1SU
END:STANDARD
END:VTIMEZONE
BEGIN:VEVENT
UID:2485226:Event:1004409
DTSTAMP:20260419T153758Z
SUMMARY:numérologie de Karam Kriya (KK)
DESCRIPTION:premier cours hebdomadaire  de numérologie du Kundalin
 i Yoga selon Yogi Bhajan\nVinca Bigo, alias Pavan Kaur\nEnseignante co
 nsultante en numérologie selon l'Ecole Karam Kriya\nDoctor of Philoso
 phy (PhD), Cambridge University, England\nAssociate Professor in Gende
 r, Ethics & Leadership at KEDGE Business School \nPortable: 06 50 81 
 86 30\nMail: vb243@cam.ac.uk\nSi je vous dis que le 1 c'est la graine,
  que le 2 ce sont les racines, que le 3 ce sont les branches, le 4 la 
 fleur, nous parcourons tout simplement en suivant ces nombres une de
 s 8 séquences universelles: celle du 1 2 3 4. \nNotre travail sera d
 e sentir, d'expérimenter ce qu'est le 1, pourquoi la graine c'est du 
 1, et pas du 2, pourquoi les racines sont du 2 et pas un autre nombre,
  et ainsi de suite. Si la plante se décline en nombres, il s'en va de
  même pour les sens, les vices, les vertus, les aliments, les émoti
 ons, les organes, et ainsi de suite.\nLe KK n'est pas une aventure int
 ellectuelle. Le KK est une méditation sur les nombres, c'est l'expé
 rience même des nombres. Pendant la formation de consultant(e) en KK,
  sur trois ans nous passons 4 jours à intégrer chaque nombre. Com
 me le Kundalini Yoga, le KK demande à ce que nous fassions une expér
 ience qui résonne jusque dans nos cellules, même si le mental lui se
  laissera facilement fasciner. \nEn intégrant les nombres dans notre
  vie nous apprenons à débusquer des schémas, qui sont les nôtres e
 t ceux de notre entourage, souvent répétitifs, qui nous empêchent d
 e vivre pleinement et librement notre vie. Les reconnaître est un pas
  vers plus de conscience, vers d'autres façons d'appréhender le quot
 idien, pour parvenir à mettre en place des manières d'être et d'agi
 r constructives, libératrices et joyeuses.\nLes cours auront lieu le 
 mercredi soir à partir du 14 novembre 2012 dans le 9ème à Marseille
  de 19h30 à 22h00 au prix de 15€ par cours, ou alors de 45€ par m
 ois. Réservation obligatoire.\n\nPour plus d'information, aller sur h
 ttps://epanews.fr/events/num-rologie-de-karam-kriya-kk
DTSTART;TZID=Europe/Paris:20121114T193000
DTEND;TZID=Europe/Paris:20121114T220000
CATEGORIES:13
LOCATION:Marseille
WEBSITE:http://www.karamkriya.co.uk/karam_kriya/definition.htm
URL:http://www.karamkriya.co.uk/karam_kriya/definition.htm
CONTACT:0660463092
ORGANIZER;CN=danielstcyrsurmer:https://epanews.fr/profile/danielstcyrs
 urmer
ATTACH;FMTTYPE="image/jpeg":
END:VEVENT
END:VCALENDAR
