BEGIN:VCALENDAR
PRODID:NingEventWidget-v1
VERSION:2.0
METHOD:PUBLISH
BEGIN:VTIMEZONE
TZID:Europe/Paris
X-LIC-LOCATION:Europe/Paris
BEGIN:DAYLIGHT
TZOFFSETFROM:+0100
TZOFFSETTO:+0200
TZNAME:CEST
DTSTART:19700329T020000
RRULE:FREQ=YEARLY;BYMONTH=3;BYDAY=-1SU
END:DAYLIGHT
BEGIN:STANDARD
TZOFFSETFROM:+0200
TZOFFSETTO:+0100
TZNAME:CET
DTSTART:19701025T030000
RRULE:FREQ=YEARLY;BYMONTH=10;BYDAY=-1SU
END:STANDARD
END:VTIMEZONE
BEGIN:VEVENT
UID:2485226:Event:1598911
DTSTAMP:20260422T110527Z
SUMMARY:Nouvel an chamanique
DESCRIPTION:Nouvel An Chamanique 2013\nDu 30 décembre au 2 janvier\nE
 xpérience, réalisation, dépassement des peurs, apprendre du passé 
 et grandir vers une nouvelle évolution de l'être et de la conscience
 .\n4 jours riches de découvertes intérieures et extérieures. Décou
 vertes et rencontres Humaines, emplis de Sacrés.\nSweat Lodges, voyag
 e au tambour, vision de l'année passée et sur celle à venir, libér
 ation des émotions, processus de guérisons de groupe, cérémonie de
  tabac, marche sur le feu accompagnés de quelques surprises...\nInscr
 iptions avant le 20 décembre.\n\nPour plus d'information, aller sur h
 ttps://epanews.fr/events/nouvel-an-chamanique
DTSTART;TZID=Europe/Paris:20131230T180000
DTEND;TZID=Europe/Paris:20140102T140000
CATEGORIES:86
LOCATION:Lathus Saint Rémy
WEBSITE:http://www.cedricdelaveau.com
URL:http://www.cedricdelaveau.com
CONTACT:06.18.18.90.86
ORGANIZER;CN=Cedric:https://epanews.fr/profile/Cedric182
ATTACH;FMTTYPE="image/jpeg":http://storage.ning.com/topology/rest/1.0/
 file/get/1662954050?profile=original
ATTENDEE;ROLE=REQ-PARTICIPANT;PARTSTAT=ACCEPTED;RSVP=TRUE;CN=Cedric:ht
 tps://epanews.fr/profile/Cedric182
END:VEVENT
END:VCALENDAR
