BEGIN:VCALENDAR
PRODID:NingEventWidget-v1
VERSION:2.0
METHOD:PUBLISH
BEGIN:VTIMEZONE
TZID:Europe/Paris
X-LIC-LOCATION:Europe/Paris
BEGIN:DAYLIGHT
TZOFFSETFROM:+0100
TZOFFSETTO:+0200
TZNAME:CEST
DTSTART:19700329T020000
RRULE:FREQ=YEARLY;BYMONTH=3;BYDAY=-1SU
END:DAYLIGHT
BEGIN:STANDARD
TZOFFSETFROM:+0200
TZOFFSETTO:+0100
TZNAME:CET
DTSTART:19701025T030000
RRULE:FREQ=YEARLY;BYMONTH=10;BYDAY=-1SU
END:STANDARD
END:VTIMEZONE
BEGIN:VEVENT
UID:2485226:Event:166099
DTSTAMP:20260425T041250Z
SUMMARY:nouveauté à la MJC de Lavaur cours hebdomadaire de danse lib
 re
DESCRIPTION:Nouveauté à la MJC de Lavaur: Cours hebdomadaire de dans
 e libre\n\nCELEBRER LE VIVANT PAR LE MOUVEMENT....\n\n\nInspiré par l
 es mouvements lents, doux et tout en rondeur issus de la pratique du t
 ai chi chuan, du qi gong, de la danse contact et butoh, cet atelier a 
 pour but de laisser remonter le mouvement de vie profond, lui permettr
 e de se déployer dans l'espace, afin de retrouver une gestuelle libé
 rée, retrouver le mouvement juste pour soi, en respectant le rythme e
 t la temporalité de chacun.\n\nDU GESTE LIBERE AU MOUVEMENT CREATEUR,
  SE DANSER\nEMBRASSER LE VIVANT PAR LE MOUVEMENT DANSE ET LAISSER EMER
 GER SON STYLE\n\ndeux cours sont proposés à la MJC de Lavaur\nau 12 
 rue Peyras\n81 500 Lavaur\ntel. 05 63 58 17 11\n\nparents- enfants le 
 jeudi de 18h à 19h\nados - adultes le jeudi de 20h à 21h\n\n\ntarifs
 : 40 euros par trimestre pour les enfants et ados\n80 euros par trimes
 tre pour les adultes\n90 euros par trimestre pour les parents accompag
 nés de leurs enfants\n\nles cours commenceront à compter du jeudi 13
  Janvier 2011.\n\nPour plus d'information, aller sur https://epanews.f
 r/events/nouveaute-a-la-mjc-de-lavaur
DTSTART;TZID=Europe/Paris:20110113T180000
DTEND;TZID=Europe/Paris:20110113T210000
CATEGORIES:81
LOCATION:Toulouse
WEBSITE:
URL:
CONTACT:09 66 88 73 45
ORGANIZER;CN="franceschi berengere":https://epanews.fr/profile/frances
 chiberengere
ATTACH;FMTTYPE="image/jpeg":http://storage.ning.com/topology/rest/1.0/
 file/get/1662367073?profile=original
ATTENDEE;ROLE=REQ-PARTICIPANT;PARTSTAT=ACCEPTED;RSVP=TRUE;CN="francesc
 hi berengere":https://epanews.fr/profile/franceschiberengere
END:VEVENT
END:VCALENDAR
