BEGIN:VCALENDAR
PRODID:NingEventWidget-v1
VERSION:2.0
METHOD:PUBLISH
BEGIN:VTIMEZONE
TZID:Europe/Paris
X-LIC-LOCATION:Europe/Paris
BEGIN:DAYLIGHT
TZOFFSETFROM:+0100
TZOFFSETTO:+0200
TZNAME:CEST
DTSTART:19700329T020000
RRULE:FREQ=YEARLY;BYMONTH=3;BYDAY=-1SU
END:DAYLIGHT
BEGIN:STANDARD
TZOFFSETFROM:+0200
TZOFFSETTO:+0100
TZNAME:CET
DTSTART:19701025T030000
RRULE:FREQ=YEARLY;BYMONTH=10;BYDAY=-1SU
END:STANDARD
END:VTIMEZONE
BEGIN:VEVENT
UID:2485226:Event:920091
DTSTAMP:20260423T175527Z
SUMMARY:Nouveau Groupe \"Massage & Partage\" entre initiés
DESCRIPTION:Groupe d'échanges de massages et de savoirs réservé aux
  personnes déjà formées - Place d'Italie - entre 15 et 25€ les 3h
  - 27/10- 25/11- 27/01- 23/02 etc\n\nPour plus d'information, aller su
 r https://epanews.fr/events/nouveau-groupe-massage-partage-entre-initi
 -s
DTSTART;TZID=Europe/Paris:20121027T150000
DTEND;TZID=Europe/Paris:20121027T180000
CATEGORIES:75
LOCATION:Centre des 2 Moulins, 185 rue du Chateau des rentiers 75013 P
 aris  Métro Place d'Italie Bus 27, 83, 62
WEBSITE:
URL:
CONTACT:
ORGANIZER;CN="FLOCH Anne-Marie":https://epanews.fr/profile/FLOCHAnneMa
 rie
ATTACH;FMTTYPE="image/jpeg":
ATTENDEE;ROLE=REQ-PARTICIPANT;PARTSTAT=ACCEPTED;RSVP=TRUE;CN="FLOCH An
 ne-Marie":https://epanews.fr/profile/FLOCHAnneMarie
END:VEVENT
END:VCALENDAR
