BEGIN:VCALENDAR
PRODID:NingEventWidget-v1
VERSION:2.0
METHOD:PUBLISH
BEGIN:VTIMEZONE
TZID:Europe/Paris
X-LIC-LOCATION:Europe/Paris
BEGIN:DAYLIGHT
TZOFFSETFROM:+0100
TZOFFSETTO:+0200
TZNAME:CEST
DTSTART:19700329T020000
RRULE:FREQ=YEARLY;BYMONTH=3;BYDAY=-1SU
END:DAYLIGHT
BEGIN:STANDARD
TZOFFSETFROM:+0200
TZOFFSETTO:+0100
TZNAME:CET
DTSTART:19701025T030000
RRULE:FREQ=YEARLY;BYMONTH=10;BYDAY=-1SU
END:STANDARD
END:VTIMEZONE
BEGIN:VEVENT
UID:2485226:Event:2025554
DTSTAMP:20260421T172634Z
SUMMARY:Nouveau Darshan-Transmission à l'Unité
DESCRIPTION:\nUne Nouvelle Conscience d'Eveil se pose actuellement sur
  terre qui va Tout changer...Elle bouleverse nos anciennes vérités e
 t certitudes établies. Elle infuse un Nouveau Paradigme spirituel et 
 une nouvelle Vision de la Vie et du Monde.\nCe Nouvel Eveil spirituel,
  porteur de la Douceur d'Amour de l'UN qui est Tout Ce Qui Est, va l
 ibérer l'Âme des souffrances et de l'Illusion de la Séparation pou
 r nous conduire à l'UNITE de la VIE..\nOBJECTIF ET PROGRAMME DU STAGE
  :\n\n--------------------------------------------------------\nViens 
 découvrir le Nouveau Eveil Spirituel qui va Tout Changer et vivre un
 e Rencontre étonnante de guérison-libération de tes souffrances et 
 de tes croyances négatives, grâce à la Fulgurance d'Amour de la \"P
 résence-Regard\" de l'UN qui est Tout Ce Qui Est...\nLe contenu du st
 age, les nouveaux enseignements spirituels, les blessures alchimisées
  en Groupe et les Darshans d'Eveil à l'Unité seront réalisés dans 
 la Magie de l'Instant Présent selon les besoins des participants.\n\n
 Pour en savoir plus, Clique ici :  -----------------------------------
 -------------------------------------------------- http://www.institut
 aora.com/Sqp-Darshan-Conscience-Eveil-Unite.htm\n \nPour recevoir des
  produits quantiques gratuits de soins, inscrit-toi ici : ------------
 ----------------------------------------------------------------------
 --- http://www.institutaora.com\n \nJe propose aussi des Consultation
 s téléphoniques de Décodage et Libération Rapide des Mémoires Ém
 otionnelles Inconscientes par le Son : http://www.institutaora.com\n 
 \nA bientot au plaisir de te retrouver ou de faire ta connaissance\n 
 \nCoeurdialement :-) Serge\n \n\nPour plus d'information, aller sur h
 ttps://epanews.fr/events/nouveau-darshan-transmission-l-unit
DTSTART;TZID=Europe/Paris:20140914T100000
DTEND;TZID=Europe/Paris:20140914T170000
CATEGORIES:85
LOCATION:MACHE - 85190
WEBSITE:http://www.institutaora.com/index.htm
URL:http://www.institutaora.com/index.htm
CONTACT:06 64 32 14 83
ORGANIZER;CN=stargaya:https://epanews.fr/profile/stargaya
ATTACH;FMTTYPE="image/jpeg":http://storage.ning.com/topology/rest/1.0/
 file/get/1663203763?profile=original
ATTENDEE;ROLE=REQ-PARTICIPANT;PARTSTAT=ACCEPTED;RSVP=TRUE;CN=stargaya:
 https://epanews.fr/profile/stargaya
END:VEVENT
END:VCALENDAR
