BEGIN:VCALENDAR
PRODID:NingEventWidget-v1
VERSION:2.0
METHOD:PUBLISH
BEGIN:VTIMEZONE
TZID:Europe/Paris
X-LIC-LOCATION:Europe/Paris
BEGIN:DAYLIGHT
TZOFFSETFROM:+0100
TZOFFSETTO:+0200
TZNAME:CEST
DTSTART:19700329T020000
RRULE:FREQ=YEARLY;BYMONTH=3;BYDAY=-1SU
END:DAYLIGHT
BEGIN:STANDARD
TZOFFSETFROM:+0200
TZOFFSETTO:+0100
TZNAME:CET
DTSTART:19701025T030000
RRULE:FREQ=YEARLY;BYMONTH=10;BYDAY=-1SU
END:STANDARD
END:VTIMEZONE
BEGIN:VEVENT
UID:2485226:Event:2864562
DTSTAMP:20260422T070951Z
SUMMARY:ouverture d'un groupe débutant en biodanza
DESCRIPTION:Ouverture d'un cours pour débutants en biodanza, animé p
 ar deux facilitatrices en supervision : Emmanuelle et Sandra\nInscript
 ion préalable par téléphone, svp.\n\n\nPour plus d'information, all
 er sur https://epanews.fr/events/nouveau-cours-de-biodanza
DTSTART;TZID=Europe/Paris:20170922T170000
DTEND;TZID=Europe/Paris:20170922T190000
CATEGORIES:75
LOCATION:PARIS 12è
WEBSITE:http://www.parismambo.com
URL:http://www.parismambo.com
CONTACT:07 69 24 85 15
ORGANIZER;CN="Viv'en ciel":https://epanews.fr/profile/Vivenciel
ATTACH;FMTTYPE="image/jpeg":http://storage.ning.com/topology/rest/1.0/
 file/get/1663684264?profile=original
ATTENDEE;ROLE=REQ-PARTICIPANT;PARTSTAT=ACCEPTED;RSVP=TRUE;CN="Viv'en c
 iel":https://epanews.fr/profile/Vivenciel
END:VEVENT
END:VCALENDAR
