BEGIN:VCALENDAR
PRODID:NingEventWidget-v1
VERSION:2.0
METHOD:PUBLISH
BEGIN:VTIMEZONE
TZID:Europe/Paris
X-LIC-LOCATION:Europe/Paris
BEGIN:DAYLIGHT
TZOFFSETFROM:+0100
TZOFFSETTO:+0200
TZNAME:CEST
DTSTART:19700329T020000
RRULE:FREQ=YEARLY;BYMONTH=3;BYDAY=-1SU
END:DAYLIGHT
BEGIN:STANDARD
TZOFFSETFROM:+0200
TZOFFSETTO:+0100
TZNAME:CET
DTSTART:19701025T030000
RRULE:FREQ=YEARLY;BYMONTH=10;BYDAY=-1SU
END:STANDARD
END:VTIMEZONE
BEGIN:VEVENT
UID:2485226:Event:2047790
DTSTAMP:20260421T215254Z
SUMMARY:Nouveau cours de Biodanza à Montpellier !
DESCRIPTION:Venez célébrer la vie avec le nouveau cours de Biodanza 
 le mardi matin à Près d'Arènes !\nNouveau cours de débutants adult
 es, animé par Miriam Aiple, facilitatrice en cours de supervision, de
  l’Ecole de Biodanza Système Rolando Toro d’Avignon.\nQuelle joie
  de débuter sa journée en dansant !\nJe vous invite à venir découv
 rir cette activité qui nous aide à multiplier notre joie de vivre, n
 otre vitalité, notre créativité et tous nos potentiels profonds ! -
  A travers la danse, le mouvement et la rencontre avec l'autre. Dans u
 n groupe accueillant et bienveillant qui nous aide à ouvrir notre cœ
 ur et nous épanouir dans notre vie.\nC'est un laboratoire d'expérime
 ntation pour aller de plus en plus vers notre être véritable, avec d
 es relations enrichissantes et qui nous font grandir !\nVenez essayer 
 pour l’expérimenter !\nIl s'agit d'une activité douce, qui peut ê
 tre pratiquée par tout le monde peut importe sa forme physique ou son
  age. Aucune connaissance de la danse n'est nécessaire. La Biodanza p
 eut même être pratiquée si on a des douleurs ou autre.\nAmenez une 
 tenue souple et une bouteille d'eau.\n\nPour plus d'information, aller
  sur https://epanews.fr/events/nouveau-cours-de-biodanza-montpellier
DTSTART;TZID=Europe/Paris:20140930T093000
DTEND;TZID=Europe/Paris:20140930T113000
CATEGORIES:34
LOCATION:Montpellier
WEBSITE:http://elan-de-vie.weebly.com/
URL:http://elan-de-vie.weebly.com/
CONTACT:06 02 15 66 43
ORGANIZER;CN=Miriam:https://epanews.fr/profile/Miriam
ATTACH;FMTTYPE="image/jpeg":http://storage.ning.com/topology/rest/1.0/
 file/get/1663211773?profile=original
ATTENDEE;ROLE=REQ-PARTICIPANT;PARTSTAT=ACCEPTED;RSVP=TRUE;CN=Miriam:ht
 tps://epanews.fr/profile/Miriam
END:VEVENT
END:VCALENDAR
