BEGIN:VCALENDAR
PRODID:NingEventWidget-v1
VERSION:2.0
METHOD:PUBLISH
BEGIN:VTIMEZONE
TZID:Europe/Paris
X-LIC-LOCATION:Europe/Paris
BEGIN:DAYLIGHT
TZOFFSETFROM:+0100
TZOFFSETTO:+0200
TZNAME:CEST
DTSTART:19700329T020000
RRULE:FREQ=YEARLY;BYMONTH=3;BYDAY=-1SU
END:DAYLIGHT
BEGIN:STANDARD
TZOFFSETFROM:+0200
TZOFFSETTO:+0100
TZNAME:CET
DTSTART:19701025T030000
RRULE:FREQ=YEARLY;BYMONTH=10;BYDAY=-1SU
END:STANDARD
END:VTIMEZONE
BEGIN:VEVENT
UID:2485226:Event:937823
DTSTAMP:20260419T142207Z
SUMMARY:Nouveau ! Biodanza à Marseille, le plaisir de danser sa vie !
DESCRIPTION:Nouveau !\nBiodanza à Marseille, quartier du vieux port. 
 Pour découvrir ou poursuivre une pratique de la Biodanza. \nséance 
 decouverte  5 euros.\nou Gratuite, si suivi d'abonnement\ninfos sur s
 ite : http://www.biodanza-art.fr\ntel pour inscriptions : vero 06 87 5
 5 10 13\n\nPour plus d'information, aller sur https://epanews.fr/event
 s/nouveau-biodanza-marseille-le-plaisir-de-danser-sa-vie
DTSTART;TZID=Europe/Paris:20121114T200000
DTEND;TZID=Europe/Paris:20121114T220000
CATEGORIES:13
LOCATION:Marseille 7ème, la place du village, vieux port
WEBSITE:http://www.levillagedesfacteursdimages.org
URL:http://www.levillagedesfacteursdimages.org
CONTACT:06 87 55 10 13
ORGANIZER:vero
ATTACH;FMTTYPE="image/jpeg":http://storage.ning.com/topology/rest/1.0/
 file/get/1662647477?profile=original
ATTENDEE;ROLE=REQ-PARTICIPANT;PARTSTAT=ACCEPTED;RSVP=TRUE;CN=Véro:htt
 ps://epanews.fr/profile/Vero472
ATTENDEE;ROLE=REQ-PARTICIPANT;PARTSTAT=TENTATIVE;RSVP=TRUE;CN=corinne3
 34:https://epanews.fr/profile/corinne334
END:VEVENT
END:VCALENDAR
