BEGIN:VCALENDAR
PRODID:NingEventWidget-v1
VERSION:2.0
METHOD:PUBLISH
BEGIN:VTIMEZONE
TZID:Europe/Paris
X-LIC-LOCATION:Europe/Paris
BEGIN:DAYLIGHT
TZOFFSETFROM:+0100
TZOFFSETTO:+0200
TZNAME:CEST
DTSTART:19700329T020000
RRULE:FREQ=YEARLY;BYMONTH=3;BYDAY=-1SU
END:DAYLIGHT
BEGIN:STANDARD
TZOFFSETFROM:+0200
TZOFFSETTO:+0100
TZNAME:CET
DTSTART:19701025T030000
RRULE:FREQ=YEARLY;BYMONTH=10;BYDAY=-1SU
END:STANDARD
END:VTIMEZONE
BEGIN:VEVENT
UID:2485226:Event:1354902
DTSTAMP:20260421T132848Z
SUMMARY:Nouveau a Lyon! Initiation à l'énergétique 25 et 26 mai 201
 3
DESCRIPTION:Bonjour à tous!\nJe souhaite vous faire découvrir les st
 ages et les ateliers donna par Laurence ARPI (Artiste, coach de vie, m
 aître Reiki Shamballa et flamme violette, enseignante en training dan
 se et chant de la vie) . Ses enseignements sont de grande qualité, ap
 préciés par des centaines de personnes, qui en ont vu les résultats
  concrets dans leur vie. \n\nJe vous invite à parcourir son site : (
 vidéos, articles, méditations audio) \nhttp://www.artiste-de-sa-vie
 .fr \n Un stage d'initiation énergétique aura lieu le 25 et 26 MAI
  à LYON. N'hésitez-pas à nous laisser vos questions, nous y répond
 rons avec plaisir!!!  \nJulien Tilley \nPorteur du message de \"êtr
 e l'artiste de sa vie\"\n\nPour plus d'information, aller sur https://
 epanews.fr/events/nouveau-a-lyon-initiation-a-l-nerg-tique-25-et-26-ma
 i-2013
DTSTART;TZID=Europe/Paris:20130525T110000
DTEND;TZID=Europe/Paris:20130526T160000
CATEGORIES:69
LOCATION:A Lyon ( lieu en cours de décision)
WEBSITE:
URL:
CONTACT:0475933014
ORGANIZER;CN="Laurence A. Coaching":https://epanews.fr/profile/artiste
 desavie
ATTACH;FMTTYPE="image/jpeg":
ATTENDEE;ROLE=REQ-PARTICIPANT;PARTSTAT=ACCEPTED;RSVP=TRUE;CN="Laurence
  A. Coaching":https://epanews.fr/profile/artistedesavie
END:VEVENT
END:VCALENDAR
