BEGIN:VCALENDAR
PRODID:NingEventWidget-v1
VERSION:2.0
METHOD:PUBLISH
BEGIN:VTIMEZONE
TZID:Europe/Paris
X-LIC-LOCATION:Europe/Paris
BEGIN:DAYLIGHT
TZOFFSETFROM:+0100
TZOFFSETTO:+0200
TZNAME:CEST
DTSTART:19700329T020000
RRULE:FREQ=YEARLY;BYMONTH=3;BYDAY=-1SU
END:DAYLIGHT
BEGIN:STANDARD
TZOFFSETFROM:+0200
TZOFFSETTO:+0100
TZNAME:CET
DTSTART:19701025T030000
RRULE:FREQ=YEARLY;BYMONTH=10;BYDAY=-1SU
END:STANDARD
END:VTIMEZONE
BEGIN:VEVENT
UID:2485226:Event:952921
DTSTAMP:20260420T011527Z
SUMMARY:Nous vivons plusieurs fois sur terre ! Réincarnation et karma
 , pour mieux comprendre le sens de notre vie
DESCRIPTION:Depuis de nombreuses années, je présente des conférence
 s sur la puissance de nos pensées, la vie après la mort, le sens de 
 notre vie sur terre, l’esprit et son évolution…\nJe vous propose 
 aujourd’hui mes réflexions et mes recherches sur les vies successiv
 es, et montre comment chacun est l’artisan de son propre destin. Par
 mi les questions abordées :\n- Qu’est-ce que l’âme ?\n- La vie
  après la mort : comment est-ce possible ?\n- Qu’est-ce que l’a
 u-delà ?\n- Naître de nouveau : dans quel but ?\n- Comment se fai
 t le choix d’une nouvelle vie ?\n- Peut-on se réincarner en animal
  ?\n- Qu’est-ce que le destin ?\nAprès l'exposé, je répondrai a
 ux questions des auditeurs.\nCette conférence est présentée sans au
 cun sectarisme, ni dogmatisme religieux. Mon but est uniquement de pro
 poser une réflexion aux personnes qui cherchent des réponses à leur
 s questions.\nEntrée : 7 € (Chômeurs/étudiants : 3 €)\nRensei
 gnements : 06 18 34 19 99\n\nPour plus d'information, aller sur https
 ://epanews.fr/events/nous-vivons-plusieurs-fois-sur-terre-r-incarnatio
 n-et-karma-pour
DTSTART;TZID=Europe/Paris:20121019T203000
DTEND;TZID=Europe/Paris:20121019T230000
CATEGORIES:07
LOCATION:AUBENAS
WEBSITE:
URL:
CONTACT:06 18 34 19 99
ORGANIZER;CN="Freddy Gelot":https://epanews.fr/profile/FreddyGelot
ATTACH;FMTTYPE="image/jpeg":http://storage.ning.com/topology/rest/1.0/
 file/get/1662671717?profile=original
ATTENDEE;ROLE=REQ-PARTICIPANT;PARTSTAT=ACCEPTED;RSVP=TRUE;CN="Freddy G
 elot":https://epanews.fr/profile/FreddyGelot
ATTENDEE;ROLE=REQ-PARTICIPANT;PARTSTAT=TENTATIVE;RSVP=TRUE;CN=laurence
 :https://epanews.fr/profile/boutin
END:VEVENT
END:VCALENDAR
