BEGIN:VCALENDAR
PRODID:NingEventWidget-v1
VERSION:2.0
METHOD:PUBLISH
BEGIN:VTIMEZONE
TZID:Europe/Paris
X-LIC-LOCATION:Europe/Paris
BEGIN:DAYLIGHT
TZOFFSETFROM:+0100
TZOFFSETTO:+0200
TZNAME:CEST
DTSTART:19700329T020000
RRULE:FREQ=YEARLY;BYMONTH=3;BYDAY=-1SU
END:DAYLIGHT
BEGIN:STANDARD
TZOFFSETFROM:+0200
TZOFFSETTO:+0100
TZNAME:CET
DTSTART:19701025T030000
RRULE:FREQ=YEARLY;BYMONTH=10;BYDAY=-1SU
END:STANDARD
END:VTIMEZONE
BEGIN:VEVENT
UID:2485226:Event:1346027
DTSTAMP:20260421T230939Z
SUMMARY:Nous vivons plusieurs fois sur terre ! RÃ©incarnation et karma
 , pour mieux comprendre le sens de notre vie
DESCRIPTION:Depuis de nombreuses annÃ©es, je prÃ©sente des confÃ©rence
 s sur la puissance de nos pensÃ©es, la vie aprÃ¨s la mort, le sens de 
 notre vie sur terre, lâ€™esprit et son Ã©volutionâ€¦\nJe vous invite a
 ujourdâ€™hui Ã  partager mes rÃ©flexions et mes recherches sur les vie
 s successives, et de montrer comment chacun est, dâ€™une vie Ã  lâ€™au
 tre, lâ€™artisan de son propre destin. Parmi les questions abordÃ©esÂ 
 :\nQuâ€™est-ce que lâ€™Ã¢meÂ ?\nLa vie aprÃ¨s la mortÂ : comment est-c
 e possibleÂ ?\nQuâ€™est-ce que lâ€™au-delÃ Â ?\nNaÃ®tre de nouveauÂ : 
 dans quel butÂ ?\nComment se fait le choix dâ€™une nouvelle vieÂ ?\nPe
 ut-on se rÃ©incarner en animalÂ ?\nQuâ€™est-ce que le destinÂ ?\nEtc â
 €¦.\nAprÃ¨s l'exposÃ©, je rÃ©pondrai aux questions des auditeurs.\nEnt
 rÃ©eÂ : 7 â‚¬ (ChÃ´meurs/Ã©tudiantsÂ : 3 â‚¬)\nRenseignementsÂ : 06 18
  34 19 99 ou 04 92 61 50 80\n\nPour plus d'information, aller sur http
 s://epanews.fr/events/nous-vivons-plusieurs-fois-sur-terre-r-incarnati
 on-et-karma-pou-1
DTSTART;TZID=Europe/Paris:20130525T203000
DTEND;TZID=Europe/Paris:20130525T230000
CATEGORIES:38
LOCATION:VIENNE
WEBSITE:
URL:
CONTACT:06 18 34 19 99 ou 04 92 61 50 80
ORGANIZER;CN="Freddy Gelot":https://epanews.fr/profile/FreddyGelot
ATTACH;FMTTYPE="image/jpeg":http://storage.ning.com/topology/rest/1.0/
 file/get/1662829338?profile=original
ATTENDEE;ROLE=REQ-PARTICIPANT;PARTSTAT=ACCEPTED;RSVP=TRUE;CN="Freddy G
 elot":https://epanews.fr/profile/FreddyGelot
END:VEVENT
END:VCALENDAR
