BEGIN:VCALENDAR
PRODID:NingEventWidget-v1
VERSION:2.0
METHOD:PUBLISH
BEGIN:VTIMEZONE
TZID:Europe/Paris
X-LIC-LOCATION:Europe/Paris
BEGIN:DAYLIGHT
TZOFFSETFROM:+0100
TZOFFSETTO:+0200
TZNAME:CEST
DTSTART:19700329T020000
RRULE:FREQ=YEARLY;BYMONTH=3;BYDAY=-1SU
END:DAYLIGHT
BEGIN:STANDARD
TZOFFSETFROM:+0200
TZOFFSETTO:+0100
TZNAME:CET
DTSTART:19701025T030000
RRULE:FREQ=YEARLY;BYMONTH=10;BYDAY=-1SU
END:STANDARD
END:VTIMEZONE
BEGIN:VEVENT
UID:2485226:Event:1090730
DTSTAMP:20260420T055350Z
SUMMARY:Nous vivons plusieurs fois sur terre ! La rÃ©incarnation, pour
  mieux comprendre le sens de notre vie
DESCRIPTION:La vie humaine, rÃ©duite Ã  un seul sÃ©jour sur Terre, est
  incomprÃ©hensible. Pourquoi certains Ãªtres sont-ils dotÃ©s dâ€™une s
 olide santÃ© et dâ€™autres accablÃ©s par la maladie et la souffrance ?
 \nCes interrogations, et bien dâ€™autres, trouvent une rÃ©ponse simple
  et convaincante si lâ€™on prend en compte la rÃ©incarnation.\nElle sâ
 €™explique de maniÃ¨re naturelle et logique si lâ€™on considÃ¨re que l
 â€™Ãªtre humain nâ€™est pas uniquement un corps, mais un esprit immatÃ
 ©riel, autrement dit une Ã¢me, incarnÃ©e dans un corps physique.\nSi l
 â€™Ãªtre humain admet lâ€™existence de la rÃ©incarnation, il comprendr
 a alors qui il est vraiment, les Ã©vÃ©nements qui se dÃ©roulent autour
  de lui et le vÃ©ritable sens de sa prÃ©sence sur Terre.\nChristopher 
 Vasey rÃ©pondra aux questions des auditeurs aprÃ¨s lâ€™exposÃ©.\nEntrÃ
 ©eÂ : 7 â‚¬ (ChÃ´meurs/Ã©tudiantsÂ : 3 â‚¬)\nRenseignements auprÃ¨s de
  Freddy Gelot. 06 18 34 19 99 ou 04 92 61 50 80.\n\nPour plus d'inform
 ation, aller sur https://epanews.fr/events/nous-vivons-plusieurs-fois-
 sur-terre-la-r-incarnation-pour-mieux
DTSTART;TZID=Europe/Paris:20130215T203000
DTEND;TZID=Europe/Paris:20130215T233000
CATEGORIES:73
LOCATION:ANNECY
WEBSITE:
URL:
CONTACT:Freddy Gelot. 06 18 34 19 99 ou 04 92 61 50 80
ORGANIZER;CN="Freddy Gelot":https://epanews.fr/profile/FreddyGelot
ATTACH;FMTTYPE="image/jpeg":http://storage.ning.com/topology/rest/1.0/
 file/get/1662728682?profile=original
ATTENDEE;ROLE=REQ-PARTICIPANT;PARTSTAT=ACCEPTED;RSVP=TRUE;CN="Freddy G
 elot":https://epanews.fr/profile/FreddyGelot
END:VEVENT
END:VCALENDAR
