BEGIN:VCALENDAR
PRODID:NingEventWidget-v1
VERSION:2.0
METHOD:PUBLISH
BEGIN:VTIMEZONE
TZID:Europe/Paris
X-LIC-LOCATION:Europe/Paris
BEGIN:DAYLIGHT
TZOFFSETFROM:+0100
TZOFFSETTO:+0200
TZNAME:CEST
DTSTART:19700329T020000
RRULE:FREQ=YEARLY;BYMONTH=3;BYDAY=-1SU
END:DAYLIGHT
BEGIN:STANDARD
TZOFFSETFROM:+0200
TZOFFSETTO:+0100
TZNAME:CET
DTSTART:19701025T030000
RRULE:FREQ=YEARLY;BYMONTH=10;BYDAY=-1SU
END:STANDARD
END:VTIMEZONE
BEGIN:VEVENT
UID:2485226:Event:2630880
DTSTAMP:20260421T182403Z
SUMMARY:Remise en forme et Ã©quilibre alimentaire
DESCRIPTION:EnvieÂ deÂ couperÂ avecÂ leÂ quotidien,Â deÂ vousÂ faireÂ 
 unÂ cadeau,Â d'Ã©tirerÂ leÂ tempsÂ dansÂ unÂ lieuÂ magique etÂ deÂ vou
 sÂ donnerÂ laÂ chanceÂ d'amÃ©liorerÂ votreÂ santÃ©Â ?Â \n VenezÂ alors
 Â vousÂ ressourcerÂ toutÂ enÂ expÃ©rimentantÂ laÂ santÃ©Â parÂ l'alime
 ntationÂ physiologiqueÂ :\n\n2Â joursÂ pourÂ poserÂ lesÂ basesÂ d'uneÂ
  nourritureÂ adaptÃ©eÂ Ã Â notreÂ natureÂ etÂ Ã©tudeÂ desÂ remÃ¨desÂ p
 arÂ lesÂ huilesÂ essentielles.Â \n5Â joursÂ pourÂ vivreÂ Â laÂ transit
 ionÂ alimentaire,Â testerÂ lesÂ jusÂ thÃ©rapeutiques,Â seÂ faireÂ plai
 sirÂ avecÂ lesÂ ateliersÂ cuisine,Â confÃ©rences,Â yoga,Â mÃ©ditations
 ,Â repos,Â rires....\n\nPlus d'infos ici:Â Stage de remise en forme et
  transition alimentaire\n\n\nPour plus d'information, aller sur https:
 //epanews.fr/events/nourris-ta-vie-ressource-et-pratiques-en-provence
DTSTART;TZID=Europe/Paris:20160612T090000
DTEND;TZID=Europe/Paris:20160619T190000
CATEGORIES:04
LOCATION:04150 Banon
WEBSITE:http://www.gaiatrya.com/stages/remise-en-forme-provence.php
URL:http://www.gaiatrya.com/stages/remise-en-forme-provence.php
CONTACT:
ORGANIZER:Anais Bracq
ATTACH;FMTTYPE="image/jpeg":http://storage.ning.com/topology/rest/1.0/
 file/get/1663559490?profile=original
ATTENDEE;ROLE=REQ-PARTICIPANT;PARTSTAT=ACCEPTED;RSVP=TRUE;CN="Gaiatrya
 .com":https://epanews.fr/profile/Gaiatryacom962
END:VEVENT
END:VCALENDAR
