BEGIN:VCALENDAR
PRODID:NingEventWidget-v1
VERSION:2.0
METHOD:PUBLISH
BEGIN:VTIMEZONE
TZID:Europe/Paris
X-LIC-LOCATION:Europe/Paris
BEGIN:DAYLIGHT
TZOFFSETFROM:+0100
TZOFFSETTO:+0200
TZNAME:CEST
DTSTART:19700329T020000
RRULE:FREQ=YEARLY;BYMONTH=3;BYDAY=-1SU
END:DAYLIGHT
BEGIN:STANDARD
TZOFFSETFROM:+0200
TZOFFSETTO:+0100
TZNAME:CET
DTSTART:19701025T030000
RRULE:FREQ=YEARLY;BYMONTH=10;BYDAY=-1SU
END:STANDARD
END:VTIMEZONE
BEGIN:VEVENT
UID:2485226:Event:171468
DTSTAMP:20260421T113010Z
SUMMARY:NoÃ«l Zen Ã  Nice 
DESCRIPTION:LES RENCONTRES DU BIEN-ETRE AU MUSEAAV\nVenez vous relaxer
  dans un cadre aux Ã©nergies artistiques : ConfÃ©rences, Massages, ThÃ
 ©rapies naturelles, ThÃ©rapie quantique, librairie Ã©sotÃ©rique, peint
 ures Ã©nergÃ©tiques, tarologie, PrÃ©sentation de l'ORACLE INDIGO, nouv
 eau jeu de divination et de guÃ©rision Ã©nergÃ©tique et spirituelle, e
 ncens, dÃ©veloppement personnel... Cocktail et soirÃ©e \"Danse-Musique
  VENDREDI 10 decembre Ã  partir de 18H. ENTREE LIBRE TOUT LE WEEK END.
 \n\nPour plus d'information, aller sur https://epanews.fr/events/noel-
 zen-a-nice
DTSTART;TZID=Europe/Paris:20101210T180000
DTEND;TZID=Europe/Paris:20101212T190000
CATEGORIES:06
LOCATION:NICE
WEBSITE:
URL:
CONTACT:04 93 56 21 19
ORGANIZER:L'Ã©quipe du MUSEAAV
ATTACH;FMTTYPE="image/jpeg":http://storage.ning.com/topology/rest/1.0/
 file/get/1662368574?profile=original
ATTENDEE;ROLE=REQ-PARTICIPANT;PARTSTAT=ACCEPTED;RSVP=TRUE;CN="JoÃ«lle 
 HAGOULON-PETOT":https://epanews.fr/profile/JoelleHAGOULONPETOT
END:VEVENT
END:VCALENDAR
