BEGIN:VCALENDAR
PRODID:NingEventWidget-v1
VERSION:2.0
METHOD:PUBLISH
BEGIN:VTIMEZONE
TZID:Europe/Paris
X-LIC-LOCATION:Europe/Paris
BEGIN:DAYLIGHT
TZOFFSETFROM:+0100
TZOFFSETTO:+0200
TZNAME:CEST
DTSTART:19700329T020000
RRULE:FREQ=YEARLY;BYMONTH=3;BYDAY=-1SU
END:DAYLIGHT
BEGIN:STANDARD
TZOFFSETFROM:+0200
TZOFFSETTO:+0100
TZNAME:CET
DTSTART:19701025T030000
RRULE:FREQ=YEARLY;BYMONTH=10;BYDAY=-1SU
END:STANDARD
END:VTIMEZONE
BEGIN:VEVENT
UID:2485226:Event:55635
DTSTAMP:20260420T083244Z
SUMMARY:NICOLE CANIVENQ NDE ET INTEGRATION
DESCRIPTION:Conférence sur les NDE / EMI par ceux qui les vivent. Plu
 s di'nfo sur le site :http://www.inrees.com/Conferences/Les-EMI-par-ce
 ux-qui-les-vivent/\n\nPour plus d'information, aller sur https://epane
 ws.fr/events/nicole-canivenq-nde-et
DTSTART;TZID=Europe/Paris:20100504T200000
DTEND;TZID=Europe/Paris:20100504T220000
CATEGORIES:75
LOCATION:Paris 17 ème. Voir infos sur le site INREES
WEBSITE:
URL:
CONTACT:
ORGANIZER;CN=CANIVENQ:https://epanews.fr/profile/CANIVENQ
ATTACH;FMTTYPE="image/jpeg":
ATTENDEE;ROLE=REQ-PARTICIPANT;PARTSTAT=ACCEPTED;RSVP=TRUE;CN=CANIVENQ:
 https://epanews.fr/profile/CANIVENQ
END:VEVENT
END:VCALENDAR
