BEGIN:VCALENDAR
PRODID:NingEventWidget-v1
VERSION:2.0
METHOD:PUBLISH
BEGIN:VTIMEZONE
TZID:Europe/Paris
X-LIC-LOCATION:Europe/Paris
BEGIN:DAYLIGHT
TZOFFSETFROM:+0100
TZOFFSETTO:+0200
TZNAME:CEST
DTSTART:19700329T020000
RRULE:FREQ=YEARLY;BYMONTH=3;BYDAY=-1SU
END:DAYLIGHT
BEGIN:STANDARD
TZOFFSETFROM:+0200
TZOFFSETTO:+0100
TZNAME:CET
DTSTART:19701025T030000
RRULE:FREQ=YEARLY;BYMONTH=10;BYDAY=-1SU
END:STANDARD
END:VTIMEZONE
BEGIN:VEVENT
UID:2485226:Event:1363490
DTSTAMP:20260422T005251Z
SUMMARY:Nez'ssance clown
DESCRIPTION:Samedi 22 et dimanche 23 juin 2013,10h-18h aux Lilas\nÂ  Â
   Â  Â  Â  Â  Â  Â  Â  Â  Â  Â  Â  Nezâ€™ssance Clown, \nA la rencontr
 e de ton clown intĂ©rieurÂ : Je clown, tu clown, on clown :Ouvâ€™ rire
  lâ€™espace et sâ€™Ă©mouvoir, se rencontrer et partager, mettre le nez
  et sâ€™envolerâ€¦ Et enfin, sâ€™autoriser Ă  jouer !Le clown accepte 
 de laisser Ă©merger ce qui vient lĂ , dans lâ€™ici et maintenant. Il l
 Ă˘che les masques sociaux, sâ€™autorise Ă  Ă©chouer (rĂ©ussir nâ€™est 
 pas drĂ´le!), attend, Ă©coute, exagĂ¨re, va jusquâ€™au bout, se joue d
 e tout avec toute la bienveillance qui le caractĂ©rise.\n150â‚¬ le WE,
  60â‚¬ dâ€™arrhes Ă  renvoyer avec la fiche d'inscription jointe pourÂ
  Â Â Â Â  valider l'inscription.\n\nPour plus d'information, aller sur
  https://epanews.fr/events/nez-ssance-clown-1
DTSTART;TZID=Europe/Paris:20130622T100000
DTEND;TZID=Europe/Paris:20130623T180000
CATEGORIES:93
LOCATION:Les Lilas
WEBSITE:http://www.empreinteasso.canalblog.com
URL:http://www.empreinteasso.canalblog.com
CONTACT:06 85 34 19 6_
ORGANIZER;CN="marie wermuth":https://epanews.fr/profile/mariewermuth
ATTACH;FMTTYPE="image/jpeg":http://storage.ning.com/topology/rest/1.0/
 file/get/1662836717?profile=original
ATTENDEE;ROLE=REQ-PARTICIPANT;PARTSTAT=ACCEPTED;RSVP=TRUE;CN="marie we
 rmuth":https://epanews.fr/profile/mariewermuth
END:VEVENT
END:VCALENDAR
