BEGIN:VCALENDAR
PRODID:NingEventWidget-v1
VERSION:2.0
METHOD:PUBLISH
BEGIN:VTIMEZONE
TZID:Europe/Paris
X-LIC-LOCATION:Europe/Paris
BEGIN:DAYLIGHT
TZOFFSETFROM:+0100
TZOFFSETTO:+0200
TZNAME:CEST
DTSTART:19700329T020000
RRULE:FREQ=YEARLY;BYMONTH=3;BYDAY=-1SU
END:DAYLIGHT
BEGIN:STANDARD
TZOFFSETFROM:+0200
TZOFFSETTO:+0100
TZNAME:CET
DTSTART:19701025T030000
RRULE:FREQ=YEARLY;BYMONTH=10;BYDAY=-1SU
END:STANDARD
END:VTIMEZONE
BEGIN:VEVENT
UID:2485226:Event:1580386
DTSTAMP:20260424T010610Z
SUMMARY:Formation en New Paradigm Multidimensional Transformation® 13
 D
DESCRIPTION:Le cœur même de Shamballa c'est l'amour sans condition e
 t l'intégration de cet amour par l'accent mis sur la puissance du Soi
 . Nous vivons pour Aimer et pour incorporer l'Amour dans nos existence
 s, nous sommes Amour mais nous oublions et restons dans l'énergie de 
 la peur. Demeurer dans la conscience de l'Amour, c'est être libre et 
 notre plus grand défi c’est d’intégrer l'Amour pour nous Aimer. 
 Cette énergie permet d’élargir, d’élargir sa conscience et de p
 rendre soin de soi, réintégrant unité et plénitude. Nous expérime
 ntons alors une profonde connexion avec toute chose et chacun en consc
 ience d’unité. Il est temps maintenant de nous éveiller à notre m
 ulti-dimensionnalité et d'accéder à notre épanouissement.  Durant 
 cette formation certifiante de 4 jours (32 heures, Horaire 10 - 18h), 
 vous allez recevoir de nombreux nettoyages et des activations qui perm
 ettront des très grands changements de conscience.\nDu vendredi 29 no
 vembre au lundi 2 décembre 2013 de 10h à 18h.\n Lieu : La Convi - Ru
 e de Wergifosse, 22 - 4630 Soumagne - Belgique\n\nInfos et réservatio
 ns : www.belame.com ou tél. +32 (0)87 70 47 95 - +32 (0)477 46 73 18\
 n\nPour plus d'information, aller sur https://epanews.fr/events/new-pa
 radigm-multidimensional-transformation-13d-1
DTSTART;TZID=Europe/Paris:20131129T100000
DTEND;TZID=Europe/Paris:20131202T180000
CATEGORIES:belgique
LOCATION:Soumagne (Prov. de Liège)
WEBSITE:http://www.belame.com
URL:http://www.belame.com
CONTACT:
ORGANIZER;CN="MOLINA DA-COSTA Francisco-Félix":https://epanews.fr/pro
 file/MOLINADACOSTAFranciscoFelix
ATTACH;FMTTYPE="image/jpeg":http://storage.ning.com/topology/rest/1.0/
 file/get/1662947303?profile=original
ATTENDEE;ROLE=REQ-PARTICIPANT;PARTSTAT=ACCEPTED;RSVP=TRUE;CN="MOLINA D
 A-COSTA Francisco-Félix":https://epanews.fr/profile/MOLINADACOSTAFran
 ciscoFelix
END:VEVENT
END:VCALENDAR
