BEGIN:VCALENDAR
PRODID:NingEventWidget-v1
VERSION:2.0
METHOD:PUBLISH
BEGIN:VTIMEZONE
TZID:Europe/Paris
X-LIC-LOCATION:Europe/Paris
BEGIN:DAYLIGHT
TZOFFSETFROM:+0100
TZOFFSETTO:+0200
TZNAME:CEST
DTSTART:19700329T020000
RRULE:FREQ=YEARLY;BYMONTH=3;BYDAY=-1SU
END:DAYLIGHT
BEGIN:STANDARD
TZOFFSETFROM:+0200
TZOFFSETTO:+0100
TZNAME:CET
DTSTART:19701025T030000
RRULE:FREQ=YEARLY;BYMONTH=10;BYDAY=-1SU
END:STANDARD
END:VTIMEZONE
BEGIN:VEVENT
UID:2485226:Event:2447780
DTSTAMP:20260423T112336Z
SUMMARY:Une après -midi pour découvrir le Tarot \"Choeur de Femmes\"
DESCRIPTION:C'est samedi, je vous attend avec Céline avec impatience!
  Une après -midi pour Découvrir le Tarot \"Choeur de Femmes\" Autour
  du jeu de cartes \" Choeur des femmes \", Céline et Yaël vous invit
 ent le samedi 17 octobre à 14h à Nîmes Pour découvrir et utiliser 
 ce tarot de magie , rituel du féminin sacré Rendez) vous au studio C
 onnective yoga 54 Rue Porte de France 30000 Nîmes\nLors de ce cercle 
 venez tirer une carte et voyager au \"coeur du féminin\" Laissez votr
 e coeur suivre vos pas. Tel un appel laissez le son du choeur des femm
 es battre comme le grand tambour Nous découvrirons à travers vos tir
 ages, quel rituel mettre en place et nous utiliserons quelq pierres, p
 lantes , huiles essentielles, musique pour trouver réponse sur votre 
 chemin.\nNous vous invitons à vous inscrire au préalable Une partici
 pation de 10 euros est demandée Dégustation de gâteaux bio maison e
 t tisane Possibilité d' acheter le jeu sur place, de découvrir les i
 llustrations de Céline en \"vrai\" et quelques grandes toiles.\nà Tr
 es Bientôt!\nPour S' inscrire Yaël: 06 20 34 54 99 / http://lechantd
 esarbres.over-blog.com/ Céline: 06 85 83 69 87/ www.celine-cailleux.c
 om\n\n\n\nPour plus d'information, aller sur https://epanews.fr/events
 /ne-apr-s-midi-pour-d-couvrir-le-tarot-choeur-de-femmes-autour-du
DTSTART;TZID=Europe/Paris:20151017T140000
DTEND;TZID=Europe/Paris:20151017T170000
CATEGORIES:30
LOCATION:Nîmes
WEBSITE:
URL:
CONTACT:
ORGANIZER;CN=Yaël:https://epanews.fr/profile/yael
ATTACH;FMTTYPE="image/jpeg":http://storage.ning.com/topology/rest/1.0/
 file/get/1663466726?profile=original
ATTENDEE;ROLE=REQ-PARTICIPANT;PARTSTAT=ACCEPTED;RSVP=TRUE;CN=Yaël:htt
 ps://epanews.fr/profile/yael
END:VEVENT
END:VCALENDAR
