BEGIN:VCALENDAR
PRODID:NingEventWidget-v1
VERSION:2.0
METHOD:PUBLISH
BEGIN:VTIMEZONE
TZID:Europe/Paris
X-LIC-LOCATION:Europe/Paris
BEGIN:DAYLIGHT
TZOFFSETFROM:+0100
TZOFFSETTO:+0200
TZNAME:CEST
DTSTART:19700329T020000
RRULE:FREQ=YEARLY;BYMONTH=3;BYDAY=-1SU
END:DAYLIGHT
BEGIN:STANDARD
TZOFFSETFROM:+0200
TZOFFSETTO:+0100
TZNAME:CET
DTSTART:19701025T030000
RRULE:FREQ=YEARLY;BYMONTH=10;BYDAY=-1SU
END:STANDARD
END:VTIMEZONE
BEGIN:VEVENT
UID:2485226:Event:3020824
DTSTAMP:20260420T111505Z
SUMMARY:nature et détox
DESCRIPTION:Marche, qi gong , diéte, conseils en naturopathie pour pr
 éparer son corps et sa peau  et profiter pleinement de l'été , aut
 o massage et initiation à la réflexologie plantaire, profitez de la 
 quiétude de la campagne\n60 euros\nfacebook agnes acorps\n\nPour plus
  d'information, aller sur https://epanews.fr/events/nature-et-d-tox
DTSTART;TZID=Europe/Paris:20190508T060000
DTEND;TZID=Europe/Paris:20190508T160000
CATEGORIES:33
LOCATION:langoiran
WEBSITE:http://yogachinature.com
URL:http://yogachinature.com
CONTACT:0612153280
ORGANIZER;CN="agnès acorps":https://epanews.fr/profile/agnesacorps
ATTACH;FMTTYPE="image/jpeg":https://storage.ning.com/topology/rest/1.0
 /file/get/1674560344?profile=original
ATTENDEE;ROLE=REQ-PARTICIPANT;PARTSTAT=ACCEPTED;RSVP=TRUE;CN="agnès a
 corps":https://epanews.fr/profile/agnesacorps
END:VEVENT
END:VCALENDAR
