BEGIN:VCALENDAR
PRODID:NingEventWidget-v1
VERSION:2.0
METHOD:PUBLISH
BEGIN:VTIMEZONE
TZID:Europe/Paris
X-LIC-LOCATION:Europe/Paris
BEGIN:DAYLIGHT
TZOFFSETFROM:+0100
TZOFFSETTO:+0200
TZNAME:CEST
DTSTART:19700329T020000
RRULE:FREQ=YEARLY;BYMONTH=3;BYDAY=-1SU
END:DAYLIGHT
BEGIN:STANDARD
TZOFFSETFROM:+0200
TZOFFSETTO:+0100
TZNAME:CET
DTSTART:19701025T030000
RRULE:FREQ=YEARLY;BYMONTH=10;BYDAY=-1SU
END:STANDARD
END:VTIMEZONE
BEGIN:VEVENT
UID:2485226:Event:1790970
DTSTAMP:20260422T094205Z
SUMMARY:NaÃ®tre Ã  sa FÃ©minitÃ© - confÃ©rence et stage
DESCRIPTION:\n\nConfÃ©rence de Sylvie BÃ©rubÃ© (LÃ¼na )Â Ã  ParisÂ \"N
 aÃ®tre Ã  sa FÃ©minitÃ©, NaÃ®tre Ã  ses pouvoirs fÃ©minins\"ConfÃ©renc
 e Ã  20h : Mardi 1er avril 2014Suivi d'un stage de quatre jours du 8 a
 u 11 novembre 2014Plusieurs femmes sâ€™interrogent sur le fait dâ€™Ãªt
 re ou de ne pas Ãªtre fÃ©minine et se demandent Â« Quâ€™est-ce que la 
 fÃ©minitÃ©? Comment arriver Ã  Ãªtre fÃ©minine? Quâ€™est-ce qui mâ€™em
 pÃªche dâ€™Ãªtre fÃ©minine?Â»NaÃ®tre Ã  sa fÃ©minitÃ© est un processus
  Ã©volutif qui se vit en plusieurs Ã©tapes dÃ¨s la naissance, un vÃ©ri
 table parcours initiatique pour retrouver la sagesse fÃ©minine du FÃ©m
 inin SacrÃ©. Il existe diffÃ©rents passages, des Â« pas Â» sages, dans
  ce processus de naissance Ã  sa fÃ©minitÃ© oÃ¹ la femme est invitÃ©e 
 Ã  dÃ©velopper et dÃ©ployer ses diffÃ©rents pouvoirs fÃ©minins.Sylvie 
 BÃ©rubÃ© est lâ€™auteure des livres suivants:Â« Dans le Ventre dâ€™Ãˆv
 e, Ã€ la dÃ©couverte du fÃ©minin en soi Â»et Â« Dans le Ventre de LÃ¼n
 a, lâ€™appel du FÃ©minin SacrÃ©sur la voie du corps Â»Sylvie BÃ©rubÃ© 
 est fondatrice de lâ€™Ã‰cole Internationale du FÃ©minin SacrÃ©, thÃ©ra
 peute, animatrice de sÃ©minaires et formatrice de diffÃ©rentes approch
 es psychocorporelles (MLC, MÃ©thode de LibÃ©ration des Cuirasses, IntÃ
 ©gration MÃ©morielle, Images de transformation ), et proche collaborat
 rice ce Marie-Lise LabontÃ©.Les objectifs du sÃ©minaire sont: - DÃ©cou
 vrir, Ã©veiller, reconnaÃ®tre et honorer sa polaritÃ© fÃ©minine et ses
  pouvoirs fÃ©minins - Rencontrer les dimensions les plus belles et les
  plus sacrÃ©es du FÃ©minin en soi: lunaire, sensible, Ã©motive, intuit
 ive, crÃ©atrice, guÃ©risseuse, dÃ©esse - LibÃ©rer ses cuirasses physiq
 ues, Ã©motionnelles et mentales de son Ã©nergie fÃ©minine - DÃ©couvrir
  la voie des 12 Ã©tapes initiatiques du FÃ©minin SacrÃ© en soi - GuÃ©r
 ir sa relation avec les femmes, avec lâ€™Ã©nergie fÃ©minine et son FÃ©
 minin intÃ©rieur (Anima) - Sâ€™initier au FÃ©minin SacrÃ©, Ã  la Voie 
 sacrÃ©e du corps et Ã  la Voie sacrÃ©e du couple intÃ©rieur.Le stage s
 era vÃ©cu comme une vÃ©ritable initiation au FÃ©minin SacrÃ©!Tarif con
 fÃ©rence : 10 eurosTarif du stage de quatre jours : 550 euros (500 si 
 inscriptions avant 8 aout)Informations et Inscriptions :Contactez Dani
 elle Gotlib de lâ€™Association Chemin Corps Ã  coeur : dany11.gotlib@o
 range.fr / 06 09 76 06 37Pour en savoir plus sur les activitÃ©s de Syl
 vie BÃ©rubÃ©, voir site de l'Ecole Internationale du FÃ©minin SacrÃ© :
 Â WWW.fÃ©mininsacrÃ©.comet aussi productions lunasol.inc\n\n\n\n\n\n\n
 \n\n\n\n\n\n\n\n\n\nPour plus d'information, aller sur https://epanews
 .fr/events/na-tre-sa-f-minit-conf-rence-et-stage
DTSTART;TZID=Europe/Paris:20140401T200000
DTEND;TZID=Europe/Paris:20140401T213000
CATEGORIES:75
LOCATION:Paris 08
WEBSITE:
URL:
CONTACT:06 09 76 06 37
ORGANIZER;CN="Danielle gotlib":https://epanews.fr/profile/Daniellegotl
 ib
ATTACH;FMTTYPE="image/jpeg":http://storage.ning.com/topology/rest/1.0/
 file/get/1663064773?profile=original
ATTENDEE;ROLE=REQ-PARTICIPANT;PARTSTAT=ACCEPTED;RSVP=TRUE;CN="Danielle
  gotlib":https://epanews.fr/profile/Daniellegotlib
END:VEVENT
END:VCALENDAR
