BEGIN:VCALENDAR
PRODID:NingEventWidget-v1
VERSION:2.0
METHOD:PUBLISH
BEGIN:VTIMEZONE
TZID:Europe/Paris
X-LIC-LOCATION:Europe/Paris
BEGIN:DAYLIGHT
TZOFFSETFROM:+0100
TZOFFSETTO:+0200
TZNAME:CEST
DTSTART:19700329T020000
RRULE:FREQ=YEARLY;BYMONTH=3;BYDAY=-1SU
END:DAYLIGHT
BEGIN:STANDARD
TZOFFSETFROM:+0200
TZOFFSETTO:+0100
TZNAME:CET
DTSTART:19701025T030000
RRULE:FREQ=YEARLY;BYMONTH=10;BYDAY=-1SU
END:STANDARD
END:VTIMEZONE
BEGIN:VEVENT
UID:2485226:Event:2618229
DTSTAMP:20260423T081111Z
SUMMARY:Mouvements rythmiques de Perse
DESCRIPTION:Parmi les pratiques traditionnelles de la Perse; mouvement
 s, rythmes et musique conduisent à la Danse universelle du tournoieme
 nt, ce rite d’orientation qui porte à un cheminement dans la connai
 ssance de soi. Au cours de l’atelier, accessible à toute personne,
  quelle que soit son origine ou sa culture, l’entraînement des mouv
 ements perpétuels et infinis aura pour intention de nous reconnecter 
 à l’Essentiel. Et Rûmî de nous rappeler:\"Ne te vends pas à bon
  marché,Puisque tu possèdes une si grande valeur\".\n\nPour plus d'i
 nformation, aller sur https://epanews.fr/events/mouvements-rythmiques-
 de-perse
DTSTART;TZID=Europe/Paris:20160430T143000
DTEND;TZID=Europe/Paris:20160430T180000
CATEGORIES:34
LOCATION:studio des cristalliers
WEBSITE:http://www;studiodescristalliers.com
URL:http://www;studiodescristalliers.com
CONTACT:0671848485
ORGANIZER;CN="Danse des derviches tourneurs-":https://epanews.fr/profi
 le/Sparfel925
ATTACH;FMTTYPE="image/jpeg":http://storage.ning.com/topology/rest/1.0/
 file/get/1663553076?profile=original
ATTENDEE;ROLE=REQ-PARTICIPANT;PARTSTAT=ACCEPTED;RSVP=TRUE;CN="Danse de
 s derviches tourneurs-":https://epanews.fr/profile/Sparfel925
END:VEVENT
END:VCALENDAR
