BEGIN:VCALENDAR
PRODID:NingEventWidget-v1
VERSION:2.0
METHOD:PUBLISH
BEGIN:VTIMEZONE
TZID:Europe/Paris
X-LIC-LOCATION:Europe/Paris
BEGIN:DAYLIGHT
TZOFFSETFROM:+0100
TZOFFSETTO:+0200
TZNAME:CEST
DTSTART:19700329T020000
RRULE:FREQ=YEARLY;BYMONTH=3;BYDAY=-1SU
END:DAYLIGHT
BEGIN:STANDARD
TZOFFSETFROM:+0200
TZOFFSETTO:+0100
TZNAME:CET
DTSTART:19701025T030000
RRULE:FREQ=YEARLY;BYMONTH=10;BYDAY=-1SU
END:STANDARD
END:VTIMEZONE
BEGIN:VEVENT
UID:2485226:Event:138867
DTSTAMP:20260420T054510Z
SUMMARY:Mouvements de LibÃ©ration des Cuirasses
DESCRIPTION:Nadine, formÃ©e par Marie Lise LabontÃ©, dÃ©marrera les at
 eliers de MLC, des mouvements doux et profonds, pour nous libÃ©rer des
  rÃ©sistances enkystÃ©es dans le corps chaque mardi de 17 Ã  18H30. 12
 â‚¬50 la sÃ©ance.\nAssociation d'ÃŠtre Ã  Corps\n\nPour plus d'informa
 tion, aller sur https://epanews.fr/events/mouvements-de-liberation-des
DTSTART;TZID=Europe/Paris:20101102T170000
DTEND;TZID=Europe/Paris:20101102T183000
CATEGORIES:30
LOCATION:La Minescence
WEBSITE:
URL:
CONTACT:04 30 38 65 78
ORGANIZER;CN="Marie-HÃ©lÃ¨ne JOUDIOU":https://epanews.fr/profile/Assoc
 iationSacreToi
ATTACH;FMTTYPE="image/jpeg":
ATTENDEE;ROLE=REQ-PARTICIPANT;PARTSTAT=ACCEPTED;RSVP=TRUE;CN="Marie-HÃ
 ©lÃ¨ne JOUDIOU":https://epanews.fr/profile/AssociationSacreToi
END:VEVENT
END:VCALENDAR
