BEGIN:VCALENDAR
PRODID:NingEventWidget-v1
VERSION:2.0
METHOD:PUBLISH
BEGIN:VTIMEZONE
TZID:Europe/Paris
X-LIC-LOCATION:Europe/Paris
BEGIN:DAYLIGHT
TZOFFSETFROM:+0100
TZOFFSETTO:+0200
TZNAME:CEST
DTSTART:19700329T020000
RRULE:FREQ=YEARLY;BYMONTH=3;BYDAY=-1SU
END:DAYLIGHT
BEGIN:STANDARD
TZOFFSETFROM:+0200
TZOFFSETTO:+0100
TZNAME:CET
DTSTART:19701025T030000
RRULE:FREQ=YEARLY;BYMONTH=10;BYDAY=-1SU
END:STANDARD
END:VTIMEZONE
BEGIN:VEVENT
UID:2485226:Event:1131997
DTSTAMP:20260420T214238Z
SUMMARY:Monsieur Toño
DESCRIPTION:Depuis sa loge de concierge, Janine voit défiler le monde
  et ses locataires. Elle tourne avec lui, danse avec eux, parle de ses
  familiers, témoigne de leur univers : l'Espagne républicaine, la vi
 e ordinaire, Nazim Hikmet le poète. Elle s'enthousiasme, s'interroge,
  nous éclaire...\n\nPour plus d'information, aller sur https://epanew
 s.fr/events/monsieur-to-o
DTSTART;TZID=Europe/Paris:20130214T203000
DTEND;TZID=Europe/Paris:20130214T220000
CATEGORIES:31
LOCATION:Théâtre du Chien Blanc
WEBSITE:http://www.theatreduchienblanc.fr/
URL:http://www.theatreduchienblanc.fr/
CONTACT:05 62 16 24 59
ORGANIZER:Théâtre du Chien Blanc
ATTACH;FMTTYPE="image/jpeg":http://storage.ning.com/topology/rest/1.0/
 file/get/1662739716?profile=original
END:VEVENT
END:VCALENDAR
