BEGIN:VCALENDAR
PRODID:NingEventWidget-v1
VERSION:2.0
METHOD:PUBLISH
BEGIN:VTIMEZONE
TZID:Europe/Paris
X-LIC-LOCATION:Europe/Paris
BEGIN:DAYLIGHT
TZOFFSETFROM:+0100
TZOFFSETTO:+0200
TZNAME:CEST
DTSTART:19700329T020000
RRULE:FREQ=YEARLY;BYMONTH=3;BYDAY=-1SU
END:DAYLIGHT
BEGIN:STANDARD
TZOFFSETFROM:+0200
TZOFFSETTO:+0100
TZNAME:CET
DTSTART:19701025T030000
RRULE:FREQ=YEARLY;BYMONTH=10;BYDAY=-1SU
END:STANDARD
END:VTIMEZONE
BEGIN:VEVENT
UID:2485226:Event:487011
DTSTAMP:20260422T124032Z
SUMMARY:Mon corps, instrument de l'Esprit
DESCRIPTION:Conférence\nPlus question de rêver à une vie éthérée
 , sans le corps : il est là et fait partie de notre vie ; il est « n
 otre vie » ! Et c’est bien le problème : car notre vécu corporel 
 assemble très mal entre eux les éléments affectifs, mentaux, nerveu
 x et vitaux qui le composent. Pourquoi ce désordre ? Que manque-t-il 
 à nos vies pour que l’incarnation trouve son sens ? A qui la Lumiè
 re de l’Homme Intérieur manque-t-elle ? Quels sont les signes visib
 les de sa présence ? Sommes-nous prêts à vivre autrement, avec des 
 énergies absolument neuves, abandonnant une vie d’illusions pour un
 e vie placée sous la Raison Suprême, de façon « organique et sensi
 ble » ?\nEntrée libre\n\nPour plus d'information, aller sur https://
 epanews.fr/events/mon-corps-instrument-de-l-esprit
DTSTART;TZID=Europe/Paris:20110921T200000
DTEND;TZID=Europe/Paris:20110921T220000
CATEGORIES:31
LOCATION:TOULOUSE
WEBSITE:http://toulouse.rose-croix-d-or.org
URL:http://toulouse.rose-croix-d-or.org
CONTACT:06 88 76 10 98
ORGANIZER:Ecole Gnostique de la Rose-Croix d'Or
ATTACH;FMTTYPE="image/jpeg":http://storage.ning.com/topology/rest/1.0/
 file/get/1662448937?profile=original
ATTENDEE;ROLE=REQ-PARTICIPANT;PARTSTAT=ACCEPTED;RSVP=TRUE;CN=ARREDONDO
 :https://epanews.fr/profile/ARREDONDO
ATTENDEE;ROLE=REQ-PARTICIPANT;PARTSTAT=ACCEPTED;RSVP=TRUE;CN="Christia
 n Malgras":https://epanews.fr/profile/ChristianMalgras
END:VEVENT
END:VCALENDAR
