BEGIN:VCALENDAR
PRODID:NingEventWidget-v1
VERSION:2.0
METHOD:PUBLISH
BEGIN:VTIMEZONE
TZID:Europe/Paris
X-LIC-LOCATION:Europe/Paris
BEGIN:DAYLIGHT
TZOFFSETFROM:+0100
TZOFFSETTO:+0200
TZNAME:CEST
DTSTART:19700329T020000
RRULE:FREQ=YEARLY;BYMONTH=3;BYDAY=-1SU
END:DAYLIGHT
BEGIN:STANDARD
TZOFFSETFROM:+0200
TZOFFSETTO:+0100
TZNAME:CET
DTSTART:19701025T030000
RRULE:FREQ=YEARLY;BYMONTH=10;BYDAY=-1SU
END:STANDARD
END:VTIMEZONE
BEGIN:VEVENT
UID:2485226:Event:517535
DTSTAMP:20260422T181557Z
SUMMARY:Molliex Bernard
DESCRIPTION:Le plaisir de recevoir et la joie de donner\n FORMATION A
  LA RELATION DE MASSAGE A GRENOBLE\nUn samedi par mois de 9H à 18H.\n
 Au CAFE DES ARTS, 34 rue Saint-Laurent\n \nPremière journée : 17/0
 9  \nPrix : 60 € la journée ; Réduction étudiants, chômeurs
  et si engagement trimestriel ou annuel.\n La valeur fondamentale d'u
 n massage dépend surtout des  qualités de la relation qui se crée 
 entre les personnes: présence à soi et à l'autre, ancrage, clarté 
 de l'intention, écoute, attention, réceptivité, respect,  confianc
 e et  lâcher-prise.\nLes connaissances techniques nécessaires se me
 ttent au service de cette relation.\nDans ce contexte,  nous expérim
 enterons :\n- Le massage « californien »\n- La relaxation coréen
 ne (massage par les vibrations)\n- L’intégration de ces pratiques d
 ans le massage intuitif et créatif.\n Animateur : Bernard Molliex\n
 Thérapeute  psychocorporel\nN° Siret : 410 982 680 00028.\nContact
  : 06 13 29 21 29 – 04 79 32 38 61.\nSite :http://www.therapeute-p
 sychocorporel-albertville-grenoble.com\n\nPour plus d'information, all
 er sur https://epanews.fr/events/molliex-bernard
DTSTART;TZID=Europe/Paris:20110917T090000
DTEND;TZID=Europe/Paris:20110917T180000
CATEGORIES:38
LOCATION:Grenoble
WEBSITE:
URL:
CONTACT:
ORGANIZER;CN="Molliex Bernard":https://epanews.fr/profile/MolliexBerna
 rd
ATTACH;FMTTYPE="image/jpeg":
ATTENDEE;ROLE=REQ-PARTICIPANT;PARTSTAT=ACCEPTED;RSVP=TRUE;CN="Molliex 
 Bernard":https://epanews.fr/profile/MolliexBernard
END:VEVENT
END:VCALENDAR
