BEGIN:VCALENDAR
PRODID:NingEventWidget-v1
VERSION:2.0
METHOD:PUBLISH
BEGIN:VTIMEZONE
TZID:Europe/Paris
X-LIC-LOCATION:Europe/Paris
BEGIN:DAYLIGHT
TZOFFSETFROM:+0100
TZOFFSETTO:+0200
TZNAME:CEST
DTSTART:19700329T020000
RRULE:FREQ=YEARLY;BYMONTH=3;BYDAY=-1SU
END:DAYLIGHT
BEGIN:STANDARD
TZOFFSETFROM:+0200
TZOFFSETTO:+0100
TZNAME:CET
DTSTART:19701025T030000
RRULE:FREQ=YEARLY;BYMONTH=10;BYDAY=-1SU
END:STANDARD
END:VTIMEZONE
BEGIN:VEVENT
UID:2485226:Event:2339630
DTSTAMP:20260422T111118Z
SUMMARY:Mois du Qi Gong : l'équilibre du corps et de l'esprit
DESCRIPTION:Dans le cadre des journées du Qi Gong,\nJe vous invite ce
  dimanche matin dans le Parc Maureau de Pélissanne\nÀ partir de 10h 
 nous pratiquerons des autos massages, quelques échauffements du corps
 .\nIl y aura la démonstration d'une série de Qi Gong, et vous pourre
 z ensuite participer au jeu/atelier des 5 éléments qui vous permettr
 a une pratique simple et personnalisée pour découvrir un qi gong uti
 le à ce fameux équilibre corps esprit.\n\nC'est gratuit et ouvert à
  tous.\n\nN'hésitez pas à partager cette information.\n\nPour plus d
 'information, aller sur https://epanews.fr/events/mois-du-qi-gong-l-qu
 ilibre-du-corps-et-de-l-esprit
DTSTART;TZID=Europe/Paris:20150607T100000
DTEND;TZID=Europe/Paris:20150607T120000
CATEGORIES:13
LOCATION:Au Parc Maureau
WEBSITE:http://www.destination-mieuxetre.org
URL:http://www.destination-mieuxetre.org
CONTACT:0680675278
ORGANIZER;CN="Aviel Catherine":https://epanews.fr/profile/AvielCatheri
 ne
ATTACH;FMTTYPE="image/jpeg":
ATTENDEE;ROLE=REQ-PARTICIPANT;PARTSTAT=ACCEPTED;RSVP=TRUE;CN="Aviel Ca
 therine":https://epanews.fr/profile/AvielCatherine
END:VEVENT
END:VCALENDAR
