BEGIN:VCALENDAR
PRODID:NingEventWidget-v1
VERSION:2.0
METHOD:PUBLISH
BEGIN:VTIMEZONE
TZID:Europe/Paris
X-LIC-LOCATION:Europe/Paris
BEGIN:DAYLIGHT
TZOFFSETFROM:+0100
TZOFFSETTO:+0200
TZNAME:CEST
DTSTART:19700329T020000
RRULE:FREQ=YEARLY;BYMONTH=3;BYDAY=-1SU
END:DAYLIGHT
BEGIN:STANDARD
TZOFFSETFROM:+0200
TZOFFSETTO:+0100
TZNAME:CET
DTSTART:19701025T030000
RRULE:FREQ=YEARLY;BYMONTH=10;BYDAY=-1SU
END:STANDARD
END:VTIMEZONE
BEGIN:VEVENT
UID:2485226:Event:966361
DTSTAMP:20260420T191246Z
SUMMARY:Module d'Introduction Communication Consciente
DESCRIPTION:Module 1 : introduction Ã  la CNV processus crÃ©e par MB R
 osenberg\nUn art de vivre avec soi-mÃªme et les autres dans la conscie
 nce rÃ©ciproque:\n*renouer ou instaurer un dialogue fructueux avec l'e
 ntourage\n*se positionner dans une relation\n*apprivoiser le langage d
 es Ã©motions\n*apprendre une certiane qualitÃ© de prÃ©sence\n*dÃ©nouer
  les conflits\n Â  animÃ© par RÃ©douane Saloul formateur prÃ©-certifiÃ
 © auprÃ¨s du CNVC\n210â‚¬ les 2 jours , repas tirÃ©s du sac, collation
  offerte\nnombre de places limitÃ© Ã  12 participants\n\nPour plus d'i
 nformation, aller sur https://epanews.fr/events/module-d-introduction-
 communication-consciente
DTSTART;TZID=Europe/Paris:20121020T220000
DTEND;TZID=Europe/Paris:20121021T180000
CATEGORIES:30, 34, 13, 84
LOCATION:NÃ®mes
WEBSITE:http://2Bao30.blogspot.com
URL:http://2Bao30.blogspot.com
CONTACT:06 29 55 04 08
ORGANIZER;CN="Marie-Pierre Carlier":https://epanews.fr/profile/CARLIER
ATTACH;FMTTYPE="image/jpeg":http://storage.ning.com/topology/rest/1.0/
 file/get/1662676923?profile=original
ATTENDEE;ROLE=REQ-PARTICIPANT;PARTSTAT=ACCEPTED;RSVP=TRUE;CN="Marie-Pi
 erre Carlier":https://epanews.fr/profile/CARLIER
END:VEVENT
END:VCALENDAR
