BEGIN:VCALENDAR
PRODID:NingEventWidget-v1
VERSION:2.0
METHOD:PUBLISH
BEGIN:VTIMEZONE
TZID:Europe/Paris
X-LIC-LOCATION:Europe/Paris
BEGIN:DAYLIGHT
TZOFFSETFROM:+0100
TZOFFSETTO:+0200
TZNAME:CEST
DTSTART:19700329T020000
RRULE:FREQ=YEARLY;BYMONTH=3;BYDAY=-1SU
END:DAYLIGHT
BEGIN:STANDARD
TZOFFSETFROM:+0200
TZOFFSETTO:+0100
TZNAME:CET
DTSTART:19701025T030000
RRULE:FREQ=YEARLY;BYMONTH=10;BYDAY=-1SU
END:STANDARD
END:VTIMEZONE
BEGIN:VEVENT
UID:2485226:Event:1757797
DTSTAMP:20260420T211305Z
SUMMARY:Mini stage sur le thème :Comment obtenir tout ce que je veux?
DESCRIPTION:intervenant Christophe ITIER\nStage a Balma ( toulouse) Di
 manche 9 de 14h à 19 h: Mini stage sur le thème :Comment obtenir tou
 t ce que je veux?\nAu sommaire Étude approfondie de la loi d'attracti
 on\nÉtude de la géométrie sacrée , des lois universelles, des dern
 ières découvertes scientifiques sur la nature de la réalité\nExerc
 ice sur nos désirs cachés\nExercice sur la mise en évidence des dif
 férentes croyances que nous portons\nMéditation de visualisation dir
 igé\nPause collation\nParticipation 40€ Inscription avant le 6 fév
 rier ( places limitées)\n\nPour plus d'information, aller sur https:/
 /epanews.fr/events/mini-stage-sur-le-th-me-comment-obtenir-tout-ce-que
 -je-veux
DTSTART;TZID=Europe/Paris:20140209T140000
DTEND;TZID=Europe/Paris:20140209T190000
CATEGORIES:31
LOCATION:balma
WEBSITE:
URL:
CONTACT:0689604147
ORGANIZER;CN="itier christophe":https://epanews.fr/profile/itierchrist
 ophe
ATTACH;FMTTYPE="image/jpeg":http://storage.ning.com/topology/rest/1.0/
 file/get/1663039909?profile=original
ATTENDEE;ROLE=REQ-PARTICIPANT;PARTSTAT=ACCEPTED;RSVP=TRUE;CN="itier ch
 ristophe":https://epanews.fr/profile/itierchristophe
END:VEVENT
END:VCALENDAR
