BEGIN:VCALENDAR
PRODID:NingEventWidget-v1
VERSION:2.0
METHOD:PUBLISH
BEGIN:VTIMEZONE
TZID:Europe/Paris
X-LIC-LOCATION:Europe/Paris
BEGIN:DAYLIGHT
TZOFFSETFROM:+0100
TZOFFSETTO:+0200
TZNAME:CEST
DTSTART:19700329T020000
RRULE:FREQ=YEARLY;BYMONTH=3;BYDAY=-1SU
END:DAYLIGHT
BEGIN:STANDARD
TZOFFSETFROM:+0200
TZOFFSETTO:+0100
TZNAME:CET
DTSTART:19701025T030000
RRULE:FREQ=YEARLY;BYMONTH=10;BYDAY=-1SU
END:STANDARD
END:VTIMEZONE
BEGIN:VEVENT
UID:2485226:Event:861167
DTSTAMP:20260422T194939Z
SUMMARY:mini picnic du bien etre a voix sur berges (concerts de choral
 es)
DESCRIPTION:Bonjour à toutes et à tous... vous connaissez maintenant
  le principe des picnics dubienetre ! Le dernier fut un franc succès.
  Pour dimanche prochain le 24 JUIN Je propose une version MINI PICNIC 
 DUBIENETRE car je chante à VOIX SUR BERGE.  Donc ce ne sera pas aux i
 nvalides....  Je ne serais donc pas très disponible entre 14h30 et 16
  h 30 puisque je chante avec ma chorale foliphonie mais je vous pro...
 pose de venir au JARDIN VILLEMIN QUAI DE VALMY métro gare de l'est, p
 our picniquer, échanger des massages, chanter, rigoler, papoter , dan
 ser etc... et tout ca en plein milieux de l'événement VOIX SUR BERGE
  : un Méga rassemblement de chorales en tout genre...  Je ne pourrais
  pas apporter tout les matelas et tout les tabourets comme d'habitude 
 mais ce n'est pas grave , version mini ne veut pas dire que ce sera mo
 ins bien que d'habitude !!!  Une fois au jardin VILLEMIN cherchez mon 
 grand drapeau rose comme point de ralliement !! Ou téléphonez moi au
  0620336085  Comme d'habitude apportez ce que vous voulez pour le picn
 ic et votre creme solaire, une natte de plage, un tapis de yoga, une c
 haise de massage , des lingettes ... et youpi c'est parti ....  Alors 
 à bientôt. Jacques Créateur et animateur des picnics dubienetre.\n\
 nPour plus d'information, aller sur https://epanews.fr/events/mini-pic
 nic-du-bien-etre-a-voix-sur-berges-concerts-de-chorales
DTSTART;TZID=Europe/Paris:20120624T121500
DTEND;TZID=Europe/Paris:20120624T200000
CATEGORIES:75
LOCATION:Jardin Villemin quai de valmy
WEBSITE:
URL:
CONTACT:
ORGANIZER;CN="Jack Massage 75":https://epanews.fr/profile/Jackpalance7
 5
ATTACH;FMTTYPE="image/jpeg":
ATTENDEE;ROLE=REQ-PARTICIPANT;PARTSTAT=ACCEPTED;RSVP=TRUE;CN="Jack Mas
 sage 75":https://epanews.fr/profile/Jackpalance75
ATTENDEE;ROLE=REQ-PARTICIPANT;PARTSTAT=TENTATIVE;RSVP=TRUE;CN=plentheo
 s:https://epanews.fr/profile/plentheos
ATTENDEE;ROLE=REQ-PARTICIPANT;PARTSTAT=TENTATIVE;RSVP=TRUE;CN=NADIA:ht
 tps://epanews.fr/profile/milord
END:VEVENT
END:VCALENDAR
