BEGIN:VCALENDAR
PRODID:NingEventWidget-v1
VERSION:2.0
METHOD:PUBLISH
BEGIN:VTIMEZONE
TZID:Europe/Paris
X-LIC-LOCATION:Europe/Paris
BEGIN:DAYLIGHT
TZOFFSETFROM:+0100
TZOFFSETTO:+0200
TZNAME:CEST
DTSTART:19700329T020000
RRULE:FREQ=YEARLY;BYMONTH=3;BYDAY=-1SU
END:DAYLIGHT
BEGIN:STANDARD
TZOFFSETFROM:+0200
TZOFFSETTO:+0100
TZNAME:CET
DTSTART:19701025T030000
RRULE:FREQ=YEARLY;BYMONTH=10;BYDAY=-1SU
END:STANDARD
END:VTIMEZONE
BEGIN:VEVENT
UID:2485226:Event:575826
DTSTAMP:20260423T092642Z
SUMMARY:Mindfulness - MÃ©ditation de Pleine Conscience
DESCRIPTION:La mÃ©ditation dite \"de pleine conscience\" reprÃ©sente u
 ne remarquable intÃ©gration, celle d'une approche orientale basÃ©e sur
  la mÃ©ditation bouddhiste Zen intÃ©grÃ©e Ã  une approche occidentale 
 basÃ©e sur l'expÃ©rimentation scientifique rigoureuse. Elle a Ã©tÃ© in
 troduite dans de nombreux hÃ´pitaux amÃ©ricains au cours des 30 derniÃ
 ¨res annÃ©es.\nLe contrÃ´le de l'attention pendant les sessions de mÃ©
 ditation agissent de cette maniÃ¨re sur le systÃ¨me immunitaire. Il es
 t probable qu'un esprit plus \"distant\" et plus serein donne lieu Ã  
 une plus faible sÃ©crÃ©tion d'adrÃ©naline et de cortisol et que cela p
 ermette aux cellules immunitaires de rester plus actives. En tournant 
 son regard vers lâ€™intÃ©rieur, chacun rÃ©duit lâ€™Ã©tat de frustratio
 n et dâ€™agressivitÃ©.\nLa pratique journaliÃ¨re suffit pour obtenir u
 ne diminution de l'anxiÃ©tÃ©, du stress ou de la tendance Ã  la colÃ¨r
 e (dont les effets nÃ©fastes sur la santÃ© sont bien Ã©tablis). Chez l
 es patients ayant dÃ©jÃ  vÃ©cu au moins deux Ã©pisodes dÃ©pressifs gra
 ves, la mÃ©ditation associÃ©e Ã  une thÃ©rapie cognitive pendant six m
 ois, sur le modÃ¨le du programme Mindfulness-Based Cognitive Therapy (
 MBCT), rÃ©duit le risque de rechute de 40 % environ. Et l'effet perdur
 e un an plus tard.\nLe Mindfulness-Based Stress RÃ©duction (MBSR), mis
  au point par le biologiste Jon Kabat-Zinn il y a dÃ©jÃ  trente ans, e
 st lui, utilisÃ© aujourd'hui dans plus de 20 hÃ´pitaux aux Etats-Unis.
 \nHuit semaines de mÃ©ditation sur la Â« pleine conscience Â», Ã  rais
 on de quinze minutes par jour, permettent aussi un renforcement notabl
 e du systÃ¨me immunitaire, une diminution de la tension artÃ©rielle ch
 ez les sujets hypertendus, une accÃ©lÃ©ration de la guÃ©rison du psori
 asis ou encore une rÃ©duction des phÃ©nomÃ¨nes inflammatoires. Des Ã©t
 udes sont Ã©galement en cours sur des personnes ayant subi une opÃ©rat
 ion cardiaque, pour mesurer l'influence de la mÃ©ditation sur leur sur
 vie au bout d'un an .\nLa mÃ©ditation MPC contribue Ã  augmenter l'Ã©p
 aisseur du cerveau et par consÃ©quent Ã  rÃ©duire la sensibilitÃ© Ã  l
 a douleur, indiquent des chercheurs de l'UniversitÃ© de MontrÃ©al dans
  une Ã©tude publiÃ©e dans la Revue Emotion, Ã©ditÃ©e par l'Association
  amÃ©ricaine de psychologie.\nCe rÃ©sultat corrobore les conclusions d
 'une Ã©tude antÃ©rieure, effectuÃ©e par Grant sous la direction de Pie
 rre Rainville, de la mÃªme universitÃ©, Ã  savoir... Gestion du stress
 , de l'anxiÃ©tÃ© chronique, de l'insomnie ÂŸ Gestion de l'impulsivitÃ©
  (accÃ¨s de colÃ¨re, crises de boulimie) ÂŸ Gestion de la douleur chro
 nique ÂŸ Gestion de la dÃ©tresse face Ã  la maladie chronique ÂŸ AmÃ©l
 ioration du perfectionnisme excessif\nCelle-ci ouvre la voie vers une 
 investigation douce et bienveillante de la nature de son propre esprit
  face Ã  son mal-Ãªtre fondamental. La Pleine Conscience, permet de vo
 ir de plus en plus clairement les causes de la souffrance, de reconnaÃ
 ®tre la rÃ©activitÃ©, lâ€™attachement, les dÃ©sirs qui poussent, le pl
 us communÃ©ment, Ã  se conduire de faÃ§on irrÃ©flÃ©chie ou sous le con
 trÃ´le de nos exigences Ã©gocentrÃ©es.\nCette approche systÃ©matique d
 Ã©veloppÃ©e dans et par la pratique mÃ©ditative permet de sâ€™extraire
  progressivement des conflits, des dÃ©chirements et des tiraillements 
 de tous ordres, permettant de gagner peu Ã  peu en libertÃ©, en sagess
 e et en paix.\nIntervenant: Paul Wagner\nDiplÃ´mÃ© de lâ€™UniversitÃ© 
 des Sciences Humaines de Strasbourg. Il est un praticien et un formate
 ur des arts traditionnels visant les mÃ©thodes et les techniques natur
 elles de bien-Ãªtre, de la mÃ©ditation ainsi que le cheminement vers l
 a connaissance de soi. Il est Ã©galement auteur de plusieurs livres tr
 aitants les sujets.\nSessions tous les mardi de 19h00 Ã  20h30 au 255 
 Avenue Marcel Castie 83000 TOULON.\nParticipation: 5â‚¬ pour les adhÃ©
 rents 8â‚¬ pour les non adhÃ©rents AdhÃ©sion annuelle : 20â‚¬\nECOLE D
 U SOUFFLE - ASSOCIATION 83000 Toulon TÃ©l. 06 03 47 73 31\n\nPour plus
  d'information, aller sur https://epanews.fr/events/mindfulness-m-dita
 tion-de-pleine-conscience
DTSTART;TZID=Europe/Paris:20120110T190000
DTEND;TZID=Europe/Paris:20120110T203000
CATEGORIES:83
LOCATION:Toulon
WEBSITE:http://ecoledusouffle.free.fr
URL:http://ecoledusouffle.free.fr
CONTACT:0603477331
ORGANIZER;CN="Wagner Paul":https://epanews.fr/profile/WagnerPaul
ATTACH;FMTTYPE="image/jpeg":http://storage.ning.com/topology/rest/1.0/
 file/get/1662481095?profile=original
ATTENDEE;ROLE=REQ-PARTICIPANT;PARTSTAT=ACCEPTED;RSVP=TRUE;CN="Sindy Gi
 raud":https://epanews.fr/profile/SindyGiraud
ATTENDEE;ROLE=REQ-PARTICIPANT;PARTSTAT=ACCEPTED;RSVP=TRUE;CN="Wagner P
 aul":https://epanews.fr/profile/WagnerPaul
END:VEVENT
END:VCALENDAR
