BEGIN:VCALENDAR
PRODID:NingEventWidget-v1
VERSION:2.0
METHOD:PUBLISH
BEGIN:VTIMEZONE
TZID:Europe/Paris
X-LIC-LOCATION:Europe/Paris
BEGIN:DAYLIGHT
TZOFFSETFROM:+0100
TZOFFSETTO:+0200
TZNAME:CEST
DTSTART:19700329T020000
RRULE:FREQ=YEARLY;BYMONTH=3;BYDAY=-1SU
END:DAYLIGHT
BEGIN:STANDARD
TZOFFSETFROM:+0200
TZOFFSETTO:+0100
TZNAME:CET
DTSTART:19701025T030000
RRULE:FREQ=YEARLY;BYMONTH=10;BYDAY=-1SU
END:STANDARD
END:VTIMEZONE
BEGIN:VEVENT
UID:2485226:Event:1407281
DTSTAMP:20260422T022554Z
SUMMARY:Methode Feldenkrais Jeudi 27 Juin Ã  St Cyr les lecques
DESCRIPTION:Â Â Â Â Â Â Â Â Â Â Â Â Â Â Â Â Â Â  Atelier Feldenkrais\n
 Â Â Â Â Â Â Â Â Â Â Â Â  Jeudi 27 Juin de 18h 30 Ã  19H 30\naccessible
  Ã  tous, par praticienne FDK diplomÃ©e\nÂ Â Â Â Â Â Â Â Â Â Â Â Â Â Â
  Â Â Â  A St Cyr les Lecques ,\n1 allÃ©e des Pins ( prÃ©s du magasin C
 ..., en bd de mer)\n\"La mÃ©thode Feldenkrais est une des avanÃ§Ã©es l
 es plus importantes dans les domaines du mouvement, de la santÃ©, de l
 'Ã©ducation et du dÃ©veloppement personnel..\"\nPAF : 15 â‚¬Â  Â ( 13â
 ‚¬ etudiants)\nEn savoir + sur cette mÃ©thode, consultez le site suiva
 nt et l'article sur FeldenkraisÂ :\nhttp://lecorpsdutango.blog4ever.co
 m\nContact : 06 1977 8327Â  Anne-Marie\nÂ \n\nPour plus d'information,
  aller sur https://epanews.fr/events/methode-feldenkrais-jeudi-27-juin
DTSTART;TZID=Europe/Paris:20130627T183000
DTEND;TZID=Europe/Paris:20130627T193000
CATEGORIES:83
LOCATION:St Cyr les Lecques
WEBSITE:http://lecorpsdutango.blog4ever.com
URL:http://lecorpsdutango.blog4ever.com
CONTACT:06 1977 8327
ORGANIZER;CN="Anne-Marie PAILLARD":https://epanews.fr/profile/AnneMari
 ePAILLARD
ATTACH;FMTTYPE="image/jpeg":
ATTENDEE;ROLE=REQ-PARTICIPANT;PARTSTAT=ACCEPTED;RSVP=TRUE;CN="Anne-Mar
 ie PAILLARD":https://epanews.fr/profile/AnneMariePAILLARD
END:VEVENT
END:VCALENDAR
