BEGIN:VCALENDAR
PRODID:NingEventWidget-v1
VERSION:2.0
METHOD:PUBLISH
BEGIN:VTIMEZONE
TZID:Europe/Paris
X-LIC-LOCATION:Europe/Paris
BEGIN:DAYLIGHT
TZOFFSETFROM:+0100
TZOFFSETTO:+0200
TZNAME:CEST
DTSTART:19700329T020000
RRULE:FREQ=YEARLY;BYMONTH=3;BYDAY=-1SU
END:DAYLIGHT
BEGIN:STANDARD
TZOFFSETFROM:+0200
TZOFFSETTO:+0100
TZNAME:CET
DTSTART:19701025T030000
RRULE:FREQ=YEARLY;BYMONTH=10;BYDAY=-1SU
END:STANDARD
END:VTIMEZONE
BEGIN:VEVENT
UID:2485226:Event:154410
DTSTAMP:20260419T220549Z
SUMMARY:Méditations actives Osho et marche silencieuse
DESCRIPTION:Méditer en mouvement est une manière de lâcher prise av
 ec le mental, sans effort. Les techniques de méditations Osho sont si
 mples et à la portée de tous. Elles amènent naturellement à se cen
 trer, s’apaiser et relâcher tensions et stress. Elles permettent ai
 nsi d’entrer plus facilement dans l’espace de silence et d’obser
 vation. De retour à l’intérieur de nous-mêmes, nous pouvons alors
 , nous relaxer dans notre centre et nous ressourcer.\nPuis marche sile
 ncieuse et méditative dans la forêt de la Sainte-Baume, haut lieu é
 nergétique.\nPour le déjeuner, c’est un repas partagé ! : chacun 
 apporte un plat, de préférence végétarien.\nPARTICIPATION POUR UNE
  JOURNEE : 25 €\nAccompagnatrice : Arshi, pratique et guide les méd
 itations actives depuis plus de 25 ans.\n\nPour plus d'information, al
 ler sur https://epanews.fr/events/meditations-actives-osho-et
DTSTART;TZID=Europe/Paris:20101121T100000
DTEND;TZID=Europe/Paris:20101121T180000
CATEGORIES:83, var
LOCATION:Nans-les-Pins 83
WEBSITE:
URL:
CONTACT:06 86 64 23 79
ORGANIZER;CN=Arshi:https://epanews.fr/profile/Arshi
ATTACH;FMTTYPE="image/jpeg":http://storage.ning.com/topology/rest/1.0/
 file/get/1662359761?profile=original
ATTENDEE;ROLE=REQ-PARTICIPANT;PARTSTAT=ACCEPTED;RSVP=TRUE;CN=Arshi:htt
 ps://epanews.fr/profile/Arshi
END:VEVENT
END:VCALENDAR
