BEGIN:VCALENDAR
PRODID:NingEventWidget-v1
VERSION:2.0
METHOD:PUBLISH
BEGIN:VTIMEZONE
TZID:Europe/Paris
X-LIC-LOCATION:Europe/Paris
BEGIN:DAYLIGHT
TZOFFSETFROM:+0100
TZOFFSETTO:+0200
TZNAME:CEST
DTSTART:19700329T020000
RRULE:FREQ=YEARLY;BYMONTH=3;BYDAY=-1SU
END:DAYLIGHT
BEGIN:STANDARD
TZOFFSETFROM:+0200
TZOFFSETTO:+0100
TZNAME:CET
DTSTART:19701025T030000
RRULE:FREQ=YEARLY;BYMONTH=10;BYDAY=-1SU
END:STANDARD
END:VTIMEZONE
BEGIN:VEVENT
UID:2485226:Event:229050
DTSTAMP:20260423T165125Z
SUMMARY:Méditation pour la terre et ses habitants
DESCRIPTION:Je vous propose de nous réunir ce samedi matin à 9h pour
  une méditation afin de soutenir et envoyer de l'Amour à nos frères
  et soeurs japonais, à la terre, afin de les soutenir dans cette ép
 reuve.\nSi vous avez un cristal, pensez à le mener avec vous, les exp
 lications vous seront donnés sur place.\nMerci à ceux qui voudront s
 e joindre à Nous\n\nPour plus d'information, aller sur https://epanew
 s.fr/events/meditation-pour-la-terre-et
DTSTART;TZID=Europe/Paris:20110319T090000
DTEND;TZID=Europe/Paris:20110319T100000
CATEGORIES:84
LOCATION:Avignon
WEBSITE:
URL:
CONTACT:04.90.33.48.70
ORGANIZER;CN="LAURE GARLIN":https://epanews.fr/profile/LaureGarlin
ATTACH;FMTTYPE="image/jpeg":
ATTENDEE;ROLE=REQ-PARTICIPANT;PARTSTAT=ACCEPTED;RSVP=TRUE;CN="Marie-Bl
 anche CAUMON":https://epanews.fr/profile/MarieBlancheCAUMON
ATTENDEE;ROLE=REQ-PARTICIPANT;PARTSTAT=ACCEPTED;RSVP=TRUE;CN="LAURE GA
 RLIN":https://epanews.fr/profile/LaureGarlin
ATTENDEE;ROLE=REQ-PARTICIPANT;PARTSTAT=TENTATIVE;RSVP=TRUE;CN="Alexand
 ra Merer":https://epanews.fr/profile/AlexandraMerer
ATTENDEE;ROLE=REQ-PARTICIPANT;PARTSTAT=TENTATIVE;RSVP=TRUE;CN="Associa
 tion Mariposa Anne":https://epanews.fr/profile/AssociationMariposaAnne
 Do
END:VEVENT
END:VCALENDAR
