BEGIN:VCALENDAR
PRODID:NingEventWidget-v1
VERSION:2.0
METHOD:PUBLISH
BEGIN:VTIMEZONE
TZID:Europe/Paris
X-LIC-LOCATION:Europe/Paris
BEGIN:DAYLIGHT
TZOFFSETFROM:+0100
TZOFFSETTO:+0200
TZNAME:CEST
DTSTART:19700329T020000
RRULE:FREQ=YEARLY;BYMONTH=3;BYDAY=-1SU
END:DAYLIGHT
BEGIN:STANDARD
TZOFFSETFROM:+0200
TZOFFSETTO:+0100
TZNAME:CET
DTSTART:19701025T030000
RRULE:FREQ=YEARLY;BYMONTH=10;BYDAY=-1SU
END:STANDARD
END:VTIMEZONE
BEGIN:VEVENT
UID:2485226:Event:145768
DTSTAMP:20260419T205318Z
SUMMARY:Méditation Pleine Conscience
DESCRIPTION:Une session de Méditation de Pleine Conscience se déroul
 e le mardi 9 novembre de 19h00 à 20h30.\nLa participation est de 5 eu
 ros pour les adhérents de l’Ecole du Souffle et de 8 euros pour les
  non-adhérents. Le montant de l’adhésion annuelle est de 20€.\n\
 nPour plus d'information, aller sur https://epanews.fr/events/meditati
 on-pleine-conscience
DTSTART;TZID=Europe/Paris:20101109T190000
DTEND;TZID=Europe/Paris:20101109T203000
CATEGORIES:83
LOCATION:Salle des \"Parfums de l'Inde\"
WEBSITE:
URL:
CONTACT:0603477331
ORGANIZER;CN="Wagner Paul":https://epanews.fr/profile/WagnerPaul
ATTACH;FMTTYPE="image/jpeg":http://storage.ning.com/topology/rest/1.0/
 file/get/1662354857?profile=original
ATTENDEE;ROLE=REQ-PARTICIPANT;PARTSTAT=ACCEPTED;RSVP=TRUE;CN="Wagner P
 aul":https://epanews.fr/profile/WagnerPaul
END:VEVENT
END:VCALENDAR
